FILENAME: O4510953.SWS.1121486.tif
QUADRANGLE_NAME: BARE MOUNTAIN
QUADRANT: SW
WEST_LONGITUDE: -109 30 0.00000
EAST_LONGITUDE: -109 26 15.00000
NORTH_LATITUDE: 45 11 15.00000
SOUTH_LATITUDE: 45 7 30.00000
PRODUCTION_DATE: 2000 12 16
RASTER_ORDER: LEFT_RIGHT/TOP_BOTTOM
BAND_ORGANIZATION: SINGLE FILE
BAND_CONTENT: BLACK&WHITE
BAND_CONTENT: UNDEFINED
BAND_CONTENT: UNDEFINED
BITS_PER_PIXEL: 8
SAMPLES_AND_LINES: 5730 7680
HORIZONTAL_DATUM: NAD83
HORIZONTAL_COORDINATE_SYSTEM: UTM
COORDINATE_ZONE: 12
HORIZONTAL_UNITS: METERS
HORIZONTAL_RESOLUTION: 1.00000
SECONDARY_HORIZONTAL_DATUM: NAD27
XY_ORIGIN: 617460.00000 5005290.00000
SECONDARY_XY_ORIGIN: 617519.98000 5005079.95000
NATION: US
STATE: MT
NW_QUAD_CORNER_XY: 617836.65600 5004874.00200
NE_QUAD_CORNER_XY: 622746.51100 5004967.11300
SE_QUAD_CORNERY_XY: 622880.79600 4998023.97400
SW_QUAD_CORNER_XY: 617965.56800 4997930.86300
SECONDARY_NW_QUAD_XY: 617840.14900 5004656.68100
SECONDARY_NE_QUAD_XY: 622750.14900 5004749.79400
SECONDARY_SE_QUAD_XY: 622884.43300 4997806.70900
SECONDARY_SW_QUAD_XY: 617969.05900 4997713.59500
RMSE_XY: 2.21000
IMAGE_SOURCE: BLACK AND WHITE FILM
SOURCE_IMAGE_ID: NAPP 11012 38
SOURCE_IMAGE_DATE: 1998 08 25
SOURCE_IMAGE_ID: NAPP 11012 31
SOURCE_IMAGE_DATE: 1998 08 25
SOURCE_IMAGE_ID: NAPP 11012 134
SOURCE_IMAGE_DATE: 1998 08 25
SOURCE_DEM_DATE: 1975 00 00
AGENCY: WESTERN MAPPING CENTER (WMC)
PRODUCER: ANALYTICAL SURVEYS INC.
PRODUCTION_SYSTEM: ORBIT OR_RECTIFY V.5.2
COMPRESSION: UNDEFINED
STANDARD_VERSION: 1996 12
METADATA_DATE: 2000 12 18
DATA_FILE_SIZE: 44012130
BYTE_COUNT: 5730
