FILENAME: O4510952.SWS.1118742.tif
QUADRANGLE_NAME: SYLVAN PEAK
QUADRANT: SW
WEST_LONGITUDE: -109 37 30.00000
EAST_LONGITUDE: -109 33 45.00000
NORTH_LATITUDE: 45 11 15.00000
SOUTH_LATITUDE: 45 7 30.00000
PRODUCTION_DATE: 2000 12 11
RASTER_ORDER: LEFT_RIGHT/TOP_BOTTOM
BAND_ORGANIZATION: SINGLE FILE
BAND_CONTENT: BLACK&WHITE
BAND_CONTENT: UNDEFINED
BAND_CONTENT: UNDEFINED
BITS_PER_PIXEL: 8
SAMPLES_AND_LINES: 5730 7680
HORIZONTAL_DATUM: NAD83
HORIZONTAL_COORDINATE_SYSTEM: UTM
COORDINATE_ZONE: 12
HORIZONTAL_UNITS: METERS
HORIZONTAL_RESOLUTION: 1.00000
SECONDARY_HORIZONTAL_DATUM: NAD27
XY_ORIGIN: 607650.00000 5005110.00000
SECONDARY_XY_ORIGIN: 607710.06700 5004899.93100
NATION: US
STATE: MT
NW_QUAD_CORNER_XY: 608016.94500 5004699.18800
NE_QUAD_CORNER_XY: 612926.80100 5004784.69400
SE_QUAD_CORNERY_XY: 613050.33900 4997841.55400
SW_QUAD_CORNER_XY: 608135.10900 4997756.04700
SECONDARY_NW_QUAD_XY: 608020.14600 5004481.86200
SECONDARY_NE_QUAD_XY: 612930.14800 5004567.37000
SECONDARY_SE_QUAD_XY: 613053.68500 4997624.28400
SECONDARY_SW_QUAD_XY: 608138.31000 4997538.77400
RMSE_XY: 3.71000
IMAGE_SOURCE: BLACK AND WHITE FILM
SOURCE_IMAGE_ID: NAPP 11012 145
SOURCE_IMAGE_DATE: 1998 08 25
SOURCE_IMAGE_ID: NAPP 11012 146
SOURCE_IMAGE_DATE: 1998 08 25
SOURCE_IMAGE_ID: NAPP 11012 144
SOURCE_IMAGE_DATE: 1998 08 25
SOURCE_IMAGE_ID: NAPP 11012 143
SOURCE_IMAGE_DATE: 1998 08 25
SOURCE_DEM_DATE: 2000 01 01
AGENCY: WESTERN MAPPING CENTER (WMC)
PRODUCER: ANALYTICAL SURVEYS INC.
PRODUCTION_SYSTEM: ORBIT OR_RECTIFY V.5.2
COMPRESSION: UNDEFINED
STANDARD_VERSION: 1996 12
METADATA_DATE: 2000 12 13
DATA_FILE_SIZE: 44012130
BYTE_COUNT: 5730
