FILENAME: O4510951.NES.831426.tif
QUADRANGLE_NAME: ALPINE
QUADRANT: NE
WEST_LONGITUDE: -109 41 15.00000
EAST_LONGITUDE: -109 37 30.00000
NORTH_LATITUDE: 45 15 0.00000
SOUTH_LATITUDE: 45 11 15.00000
PRODUCTION_DATE: 1998 1 14
RASTER_ORDER: LEFT_RIGHT/TOP_BOTTOM
BAND_ORGANIZATION: SINGLE FILE
BAND_CONTENT: BLACK&WHITE
BAND_CONTENT: UNDEFINED
BAND_CONTENT: UNDEFINED
BITS_PER_PIXEL: 8
SAMPLES_AND_LINES: 5682 7635
HORIZONTAL_DATUM: NAD83
HORIZONTAL_COORDINATE_SYSTEM: UTM
COORDINATE_ZONE: 12
HORIZONTAL_UNITS: METERS
HORIZONTAL_RESOLUTION: 1.00000
SECONDARY_HORIZONTAL_DATUM: NAD27
XY_ORIGIN: 602636.00000 5011943.00000
SECONDARY_XY_ORIGIN: 602696.03700 5011732.88200
NATION: US
NATION: "SCIENCE
STATE: MT
NW_QUAD_CORNER_XY: 602994.17400 5011560.69700
NE_QUAD_CORNER_XY: 607898.65200 5011642.40000
SE_QUAD_CORNERY_XY: 608016.94500 5004699.18800
SW_QUAD_CORNER_XY: 603107.08800 5004617.48300
SECONDARY_NW_QUAD_XY: 602997.23000 5011343.31500
SECONDARY_NE_QUAD_XY: 607901.85400 5011425.02100
SECONDARY_SE_QUAD_XY: 608020.14600 5004481.86100
SECONDARY_SW_QUAD_XY: 603110.14400 5004400.15400
RMSE_XY: 4.50000
IMAGE_SOURCE: BLACK AND WHITE FILM
SOURCE_IMAGE_ID: NAPP 3832 135
SOURCE_IMAGE_DATE: 1992 09 22
SOURCE_IMAGE_ID: NAPP 3826 070
SOURCE_IMAGE_DATE: 1991 09 04
SOURCE_IMAGE_ID: NAPP 3832 136
SOURCE_IMAGE_DATE: 1992 09 22
SOURCE_IMAGE_ID: NAPP 3832 134
SOURCE_IMAGE_DATE: 1992 09 22
SOURCE_DEM_DATE: 1986 00 00
AGENCY: WESTERN MAPPING CENTER (WMC)
PRODUCER: UNDEFINED
PRODUCTION_SYSTEM: GIS/MAGIC
COMPRESSION: UNDEFINED
STANDARD_VERSION: 1996 12
METADATA_DATE: 1998 01 15
DATA_FILE_SIZE: 43387752
BYTE_COUNT: 5682
