FILENAME: O4510951.SWS.831429.tif
QUADRANGLE_NAME: ALPINE
QUADRANT: SW
WEST_LONGITUDE: -109 45 0.00000
EAST_LONGITUDE: -109 41 15.00000
NORTH_LATITUDE: 45 11 15.00000
SOUTH_LATITUDE: 45 7 30.00000
PRODUCTION_DATE: 1998 1 14
RASTER_ORDER: LEFT_RIGHT/TOP_BOTTOM
BAND_ORGANIZATION: SINGLE FILE
BAND_CONTENT: BLACK&WHITE
BAND_CONTENT: UNDEFINED
BAND_CONTENT: UNDEFINED
BITS_PER_PIXEL: 8
SAMPLES_AND_LINES: 5683 7631
HORIZONTAL_DATUM: NAD83
HORIZONTAL_COORDINATE_SYSTEM: UTM
COORDINATE_ZONE: 12
HORIZONTAL_UNITS: METERS
HORIZONTAL_RESOLUTION: 1.00000
SECONDARY_HORIZONTAL_DATUM: NAD27
XY_ORIGIN: 597838.00000 5004918.00000
SECONDARY_XY_ORIGIN: 597898.15700 5004707.90900
NATION: US
NATION: "SCIENCE
STATE: MT
NW_QUAD_CORNER_XY: 598197.23100 5004539.58000
NE_QUAD_CORNER_XY: 603107.08800 5004617.48300
SE_QUAD_CORNERY_XY: 603219.88000 4997674.34200
SW_QUAD_CORNER_XY: 598304.64900 4997596.43800
SECONDARY_NW_QUAD_XY: 598200.14100 5004322.24900
SECONDARY_NE_QUAD_XY: 603110.14400 5004400.15400
SECONDARY_SE_QUAD_XY: 603222.93500 4997457.06600
SECONDARY_SW_QUAD_XY: 598307.55900 4997379.16000
RMSE_XY: 2.80000
IMAGE_SOURCE: BLACK AND WHITE FILM
SOURCE_IMAGE_ID: NAPP 3832 137
SOURCE_IMAGE_DATE: 1992 09 22
SOURCE_IMAGE_ID: NAPP 7825 149
SOURCE_IMAGE_DATE: 1994 08 25
SOURCE_IMAGE_ID: NAPP 7825 147
SOURCE_IMAGE_DATE: 1994 08 25
SOURCE_IMAGE_ID: NAPP 7825 148
SOURCE_IMAGE_DATE: 1994 08 25
SOURCE_IMAGE_ID: NAPP 3826 071
SOURCE_IMAGE_DATE: 1991 09 04
SOURCE_DEM_DATE: 1986 00 00
AGENCY: WESTERN MAPPING CENTER (WMC)
PRODUCER: UNDEFINED
PRODUCTION_SYSTEM: GIS/MAGIC
COMPRESSION: UNDEFINED
STANDARD_VERSION: 1996 12
METADATA_DATE: 1998 01 15
DATA_FILE_SIZE: 43372656
BYTE_COUNT: 5683
