FILENAME: O4510950.NES.831402.tif
QUADRANGLE_NAME: GRANITE PEAK
QUADRANT: NE
WEST_LONGITUDE: -109 48 45.00000
EAST_LONGITUDE: -109 45 0.00000
NORTH_LATITUDE: 45 15 0.00000
SOUTH_LATITUDE: 45 11 15.00000
PRODUCTION_DATE: 1998 1 14
RASTER_ORDER: LEFT_RIGHT/TOP_BOTTOM
BAND_ORGANIZATION: SINGLE FILE
BAND_CONTENT: BLACK&WHITE
BAND_CONTENT: UNDEFINED
BAND_CONTENT: UNDEFINED
BITS_PER_PIXEL: 8
SAMPLES_AND_LINES: 5673 7627
HORIZONTAL_DATUM: NAD83
HORIZONTAL_COORDINATE_SYSTEM: UTM
COORDINATE_ZONE: 12
HORIZONTAL_UNITS: METERS
HORIZONTAL_RESOLUTION: 1.00000
SECONDARY_HORIZONTAL_DATUM: NAD27
XY_ORIGIN: 592826.00000 5011783.00000
SECONDARY_XY_ORIGIN: 592886.11100 5011572.91700
NATION: US
NATION: "SCIENCE
STATE: MT
NW_QUAD_CORNER_XY: 593185.21500 5011408.69400
NE_QUAD_CORNER_XY: 598089.69500 5011482.79500
SE_QUAD_CORNERY_XY: 598197.23100 5004539.58000
SW_QUAD_CORNER_XY: 593287.37300 5004465.47800
SECONDARY_NW_QUAD_XY: 593187.98100 5011191.30800
SECONDARY_NE_QUAD_XY: 598092.60600 5011265.41100
SECONDARY_SE_QUAD_XY: 598200.14100 5004322.24900
SECONDARY_SW_QUAD_XY: 593290.13800 5004248.14500
RMSE_XY: 2.70000
IMAGE_SOURCE: BLACK AND WHITE FILM
SOURCE_IMAGE_ID: NAPP 3826 069
SOURCE_IMAGE_DATE: 1991 09 04
SOURCE_IMAGE_ID: NAPP 3826 085
SOURCE_IMAGE_DATE: 1991 09 04
SOURCE_IMAGE_ID: NAPP 3826 087
SOURCE_IMAGE_DATE: 1991 09 04
SOURCE_IMAGE_ID: NAPP 3826 071
SOURCE_IMAGE_DATE: 1991 09 04
SOURCE_IMAGE_ID: NAPP 3826 070
SOURCE_IMAGE_DATE: 1991 09 04
SOURCE_DEM_DATE: 1997 01 01
AGENCY: WESTERN MAPPING CENTER (WMC)
PRODUCER: UNDEFINED
PRODUCTION_SYSTEM: GIS/MAGIC
COMPRESSION: UNDEFINED
STANDARD_VERSION: 1996 12
METADATA_DATE: 1998 01 15
DATA_FILE_SIZE: 43273644
BYTE_COUNT: 5673
