FILENAME: O4510950.SWS.831405.tif
QUADRANGLE_NAME: GRANITE PEAK
QUADRANT: SW
WEST_LONGITUDE: -109 52 30.00000
EAST_LONGITUDE: -109 48 45.00000
NORTH_LATITUDE: 45 11 15.00000
SOUTH_LATITUDE: 45 7 30.00000
PRODUCTION_DATE: 1998 1 14
RASTER_ORDER: LEFT_RIGHT/TOP_BOTTOM
BAND_ORGANIZATION: SINGLE FILE
BAND_CONTENT: BLACK&WHITE
BAND_CONTENT: UNDEFINED
BAND_CONTENT: UNDEFINED
BITS_PER_PIXEL: 8
SAMPLES_AND_LINES: 5673 7624
HORIZONTAL_DATUM: NAD83
HORIZONTAL_COORDINATE_SYSTEM: UTM
COORDINATE_ZONE: 12
HORIZONTAL_UNITS: METERS
HORIZONTAL_RESOLUTION: 1.00000
SECONDARY_HORIZONTAL_DATUM: NAD27
XY_ORIGIN: 588018.00000 5004766.00000
SECONDARY_XY_ORIGIN: 588078.24200 5004556.01200
NATION: US
NATION: "SCIENCE
STATE: MT
NW_QUAD_CORNER_XY: 588377.51500 5004395.17800
NE_QUAD_CORNER_XY: 593287.37300 5004465.47800
SE_QUAD_CORNERY_XY: 593389.41900 4997522.33600
SW_QUAD_CORNER_XY: 588474.18800 4997452.03500
SECONDARY_NW_QUAD_XY: 588380.13400 5004177.84200
SECONDARY_NE_QUAD_XY: 593290.13800 5004248.14500
SECONDARY_SE_QUAD_XY: 593392.18300 4997305.05600
SECONDARY_SW_QUAD_XY: 588476.80700 4997234.75200
RMSE_XY: 2.90000
IMAGE_SOURCE: BLACK AND WHITE FILM
SOURCE_IMAGE_ID: NAPP 3826 085
SOURCE_IMAGE_DATE: 1991 09 04
SOURCE_IMAGE_ID: NAPP 3832 022
SOURCE_IMAGE_DATE: 1992 09 22
SOURCE_IMAGE_ID: NAPP 3832 021
SOURCE_IMAGE_DATE: 1992 09 22
SOURCE_IMAGE_ID: NAPP 7825 054
SOURCE_IMAGE_DATE: 1994 08 25
SOURCE_IMAGE_ID: NAPP 3832 036
SOURCE_IMAGE_DATE: 1992 09 22
SOURCE_DEM_DATE: 1997 01 01
AGENCY: WESTERN MAPPING CENTER (WMC)
PRODUCER: UNDEFINED
PRODUCTION_SYSTEM: GIS/MAGIC
COMPRESSION: UNDEFINED
STANDARD_VERSION: 1996 12
METADATA_DATE: 1998 01 15
DATA_FILE_SIZE: 43256625
BYTE_COUNT: 5673
