FILENAME: O4510949.SWS.831381.tif
QUADRANGLE_NAME: LITTLE PARK MOUNTAIN
QUADRANT: SW
WEST_LONGITUDE: -110 0 0.00000
EAST_LONGITUDE: -109 56 15.00000
NORTH_LATITUDE: 45 11 15.00000
SOUTH_LATITUDE: 45 7 30.00000
PRODUCTION_DATE: 1998 1 14
RASTER_ORDER: LEFT_RIGHT/TOP_BOTTOM
BAND_ORGANIZATION: SINGLE FILE
BAND_CONTENT: BLACK&WHITE
BAND_CONTENT: UNDEFINED
BAND_CONTENT: UNDEFINED
BITS_PER_PIXEL: 8
SAMPLES_AND_LINES: 5662 7616
HORIZONTAL_DATUM: NAD83
HORIZONTAL_COORDINATE_SYSTEM: UTM
COORDINATE_ZONE: 12
HORIZONTAL_UNITS: METERS
HORIZONTAL_RESOLUTION: 1.00000
SECONDARY_HORIZONTAL_DATUM: NAD27
XY_ORIGIN: 578198.00000 5004629.00000
SECONDARY_XY_ORIGIN: 578258.33300 5004419.11100
NATION: US
NATION: "SCIENCE
STATE: MT
NW_QUAD_CORNER_XY: 578557.79600 5004265.97900
NE_QUAD_CORNER_XY: 583467.65600 5004328.67800
SE_QUAD_CORNERY_XY: 583558.95700 4997385.53400
SW_QUAD_CORNER_XY: 578643.72600 4997322.83500
SECONDARY_NW_QUAD_XY: 578560.12400 5004048.64000
SECONDARY_NE_QUAD_XY: 583470.12900 5004111.34100
SECONDARY_SE_QUAD_XY: 583561.43000 4997168.25000
SECONDARY_SW_QUAD_XY: 578646.05300 4997105.54900
RMSE_XY: 4.50000
IMAGE_SOURCE: BLACK AND WHITE FILM
SOURCE_IMAGE_ID: NAPP 3832 021
SOURCE_IMAGE_DATE: 1992 09 22
SOURCE_IMAGE_ID: NAPP 7829 103
SOURCE_IMAGE_DATE: 1994 09 05
SOURCE_IMAGE_ID: NAPP 3832 058
SOURCE_IMAGE_DATE: 1992 09 22
SOURCE_IMAGE_ID: NAPP 7825 053
SOURCE_IMAGE_DATE: 1994 08 25
SOURCE_IMAGE_ID: NAPP 3832 022
SOURCE_IMAGE_DATE: 1992 09 22
SOURCE_DEM_DATE: 1997 01 01
AGENCY: WESTERN MAPPING CENTER (WMC)
PRODUCER: UNDEFINED
PRODUCTION_SYSTEM: GIS/MAGIC
COMPRESSION: UNDEFINED
STANDARD_VERSION: 1996 12
METADATA_DATE: 1998 01 15
DATA_FILE_SIZE: 43127454
BYTE_COUNT: 5662
