FILENAME: O4510947.SES.1121477.tif
QUADRANGLE_NAME: ROBERTS
QUADRANT: SE
WEST_LONGITUDE: -109 11 15.00000
EAST_LONGITUDE: -109 7 30.00000
NORTH_LATITUDE: 45 18 45.00000
SOUTH_LATITUDE: 45 15 0.00000
PRODUCTION_DATE: 2000 12 16
RASTER_ORDER: LEFT_RIGHT/TOP_BOTTOM
BAND_ORGANIZATION: SINGLE FILE
BAND_CONTENT: BLACK&WHITE
BAND_CONTENT: UNDEFINED
BAND_CONTENT: UNDEFINED
BITS_PER_PIXEL: 8
SAMPLES_AND_LINES: 5760 7680
HORIZONTAL_DATUM: NAD83
HORIZONTAL_COORDINATE_SYSTEM: UTM
COORDINATE_ZONE: 12
HORIZONTAL_UNITS: METERS
HORIZONTAL_RESOLUTION: 1.00000
SECONDARY_HORIZONTAL_DATUM: NAD27
XY_ORIGIN: 641700.00000 5019690.00000
SECONDARY_XY_ORIGIN: 641759.74000 5019479.95300
NATION: US
STATE: MT
NW_QUAD_CORNER_XY: 642073.84200 5019264.05500
NE_QUAD_CORNER_XY: 646972.92400 5019376.17500
SE_QUAD_CORNERY_XY: 647134.43600 5012432.90600
SW_QUAD_CORNER_XY: 642229.96700 5012320.78300
SECONDARY_NW_QUAD_XY: 642078.06500 5019046.64400
SECONDARY_NE_QUAD_XY: 646977.29200 5019158.76800
SECONDARY_SE_QUAD_XY: 647138.80300 5012215.55000
SECONDARY_SW_QUAD_XY: 642234.18800 5012103.42400
RMSE_XY: 1.79000
IMAGE_SOURCE: BLACK AND WHITE FILM
SOURCE_IMAGE_ID: NAPP 9130 88
SOURCE_IMAGE_DATE: 1996 07 27
SOURCE_DEM_DATE: 1956 00 00
AGENCY: WESTERN MAPPING CENTER (WMC)
PRODUCER: ANALYTICAL SURVEYS INC.
PRODUCTION_SYSTEM: ORBIT OR_RECTIFY V.5.2
COMPRESSION: UNDEFINED
STANDARD_VERSION: 1996 12
METADATA_DATE: 2000 12 19
DATA_FILE_SIZE: 44242560
BYTE_COUNT: 5760
