FILENAME: O4510946.SWS.1121474.tif
QUADRANGLE_NAME: CASTAGNE
QUADRANT: SW
WEST_LONGITUDE: -109 22 30.00000
EAST_LONGITUDE: -109 18 45.00000
NORTH_LATITUDE: 45 18 45.00000
SOUTH_LATITUDE: 45 15 0.00000
PRODUCTION_DATE: 2000 12 15
RASTER_ORDER: LEFT_RIGHT/TOP_BOTTOM
BAND_ORGANIZATION: SINGLE FILE
BAND_CONTENT: BLACK&WHITE
BAND_CONTENT: UNDEFINED
BAND_CONTENT: UNDEFINED
BITS_PER_PIXEL: 8
SAMPLES_AND_LINES: 5730 7680
HORIZONTAL_DATUM: NAD83
HORIZONTAL_COORDINATE_SYSTEM: UTM
COORDINATE_ZONE: 12
HORIZONTAL_UNITS: METERS
HORIZONTAL_RESOLUTION: 1.00000
SECONDARY_HORIZONTAL_DATUM: NAD27
XY_ORIGIN: 627000.00000 5019360.00000
SECONDARY_XY_ORIGIN: 627059.86500 5019149.93400
NATION: US
STATE: MT
NW_QUAD_CORNER_XY: 627376.58800 5018950.51100
NE_QUAD_CORNER_XY: 632275.67400 5019051.22300
SE_QUAD_CORNERY_XY: 632421.02500 5012107.94700
SW_QUAD_CORNER_XY: 627516.55300 5012007.23300
SECONDARY_NW_QUAD_XY: 627380.37400 5018733.09100
SECONDARY_NE_QUAD_XY: 632279.60600 5018833.80600
SECONDARY_SE_QUAD_XY: 632424.95600 5011890.58200
SECONDARY_SW_QUAD_XY: 627520.33700 5011789.86500
RMSE_XY: 2.31000
IMAGE_SOURCE: BLACK AND WHITE FILM
SOURCE_IMAGE_ID: NAPP 9149 44
SOURCE_IMAGE_DATE: 1996 09 02
SOURCE_DEM_DATE: 1956 00 00
AGENCY: WESTERN MAPPING CENTER (WMC)
PRODUCER: ANALYTICAL SURVEYS INC.
PRODUCTION_SYSTEM: ORBIT OR_RECTIFY V.5.2
COMPRESSION: UNDEFINED
STANDARD_VERSION: 1996 12
METADATA_DATE: 2000 12 17
DATA_FILE_SIZE: 44012130
BYTE_COUNT: 5730
