FILENAME: O4510945.NES.1121455.tif
QUADRANGLE_NAME: ROSCOE
QUADRANT: NE
WEST_LONGITUDE: -109 26 15.00000
EAST_LONGITUDE: -109 22 30.00000
NORTH_LATITUDE: 45 22 30.00000
SOUTH_LATITUDE: 45 18 45.00000
PRODUCTION_DATE: 2000 12 08
RASTER_ORDER: LEFT_RIGHT/TOP_BOTTOM
BAND_ORGANIZATION: SINGLE FILE
BAND_CONTENT: BLACK&WHITE
BAND_CONTENT: UNDEFINED
BAND_CONTENT: UNDEFINED
BITS_PER_PIXEL: 8
SAMPLES_AND_LINES: 5730 7680
HORIZONTAL_DATUM: NAD83
HORIZONTAL_COORDINATE_SYSTEM: UTM
COORDINATE_ZONE: 12
HORIZONTAL_UNITS: METERS
HORIZONTAL_RESOLUTION: 1.00000
SECONDARY_HORIZONTAL_DATUM: NAD27
XY_ORIGIN: 621960.00000 5026200.00000
SECONDARY_XY_ORIGIN: 622019.90000 5025989.89700
NATION: US
STATE: MT
NW_QUAD_CORNER_XY: 622342.77500 5025796.95200
NE_QUAD_CORNER_XY: 627236.47100 5025893.85900
SE_QUAD_CORNERY_XY: 627376.58800 5018950.51100
SW_QUAD_CORNER_XY: 622477.50000 5018853.60100
SECONDARY_NW_QUAD_XY: 622346.41600 5025579.47800
SECONDARY_NE_QUAD_XY: 627240.25700 5025676.38800
SECONDARY_SE_QUAD_XY: 627380.37400 5018733.09100
SECONDARY_SW_QUAD_XY: 622481.14000 5018636.17900
RMSE_XY: 1.70000
IMAGE_SOURCE: BLACK AND WHITE FILM
SOURCE_IMAGE_ID: NAPP 9153 185
SOURCE_IMAGE_DATE: 1997 08 28
SOURCE_DEM_DATE: 1951 00 00
AGENCY: WESTERN MAPPING CENTER (WMC)
PRODUCER: ANALYTICAL SURVEYS INC.
PRODUCTION_SYSTEM: ORBIT OR_RECTIFY V.5.2
COMPRESSION: UNDEFINED
STANDARD_VERSION: 1996 12
METADATA_DATE: 2000 12 14
DATA_FILE_SIZE: 44012130
BYTE_COUNT: 5730
