FILENAME: O4510945.SES.1121457.tif
QUADRANGLE_NAME: ROSCOE
QUADRANT: SE
WEST_LONGITUDE: -109 26 15.00000
EAST_LONGITUDE: -109 22 30.00000
NORTH_LATITUDE: 45 18 45.00000
SOUTH_LATITUDE: 45 15 0.00000
PRODUCTION_DATE: 2000 12 08
RASTER_ORDER: LEFT_RIGHT/TOP_BOTTOM
BAND_ORGANIZATION: SINGLE FILE
BAND_CONTENT: BLACK&WHITE
BAND_CONTENT: UNDEFINED
BAND_CONTENT: UNDEFINED
BITS_PER_PIXEL: 8
SAMPLES_AND_LINES: 5730 7680
HORIZONTAL_DATUM: NAD83
HORIZONTAL_COORDINATE_SYSTEM: UTM
COORDINATE_ZONE: 12
HORIZONTAL_UNITS: METERS
HORIZONTAL_RESOLUTION: 1.00000
SECONDARY_HORIZONTAL_DATUM: NAD27
XY_ORIGIN: 622110.00000 5019270.00000
SECONDARY_XY_ORIGIN: 622169.90000 5019059.92000
NATION: US
STATE: MT
NW_QUAD_CORNER_XY: 622477.50000 5018853.60100
NE_QUAD_CORNER_XY: 627376.58800 5018950.51100
SE_QUAD_CORNERY_XY: 627516.55300 5012007.23300
SW_QUAD_CORNER_XY: 622612.07900 5011910.32200
SECONDARY_NW_QUAD_XY: 622481.14000 5018636.17900
SECONDARY_NE_QUAD_XY: 627380.37400 5018733.09100
SECONDARY_SE_QUAD_XY: 627520.33700 5011789.86500
SECONDARY_SW_QUAD_XY: 622615.71800 5011692.95100
RMSE_XY: 2.08000
IMAGE_SOURCE: BLACK AND WHITE FILM
SOURCE_IMAGE_ID: NAPP 9153 187
SOURCE_IMAGE_DATE: 1997 08 28
SOURCE_DEM_DATE: 1951 00 00
AGENCY: WESTERN MAPPING CENTER (WMC)
PRODUCER: ANALYTICAL SURVEYS INC.
PRODUCTION_SYSTEM: ORBIT OR_RECTIFY V.5.2
COMPRESSION: UNDEFINED
STANDARD_VERSION: 1996 12
METADATA_DATE: 2000 12 14
DATA_FILE_SIZE: 44012130
BYTE_COUNT: 5730
