FILENAME: O4510942.SWS.1118754.tif
QUADRANGLE_NAME: MOUNT WOOD
QUADRANT: SW
WEST_LONGITUDE: -109 52 30.00000
EAST_LONGITUDE: -109 48 45.00000
NORTH_LATITUDE: 45 18 45.00000
SOUTH_LATITUDE: 45 15 0.00000
PRODUCTION_DATE: 2000 12 11
RASTER_ORDER: LEFT_RIGHT/TOP_BOTTOM
BAND_ORGANIZATION: SINGLE FILE
BAND_CONTENT: BLACK&WHITE
BAND_CONTENT: UNDEFINED
BAND_CONTENT: UNDEFINED
BITS_PER_PIXEL: 8
SAMPLES_AND_LINES: 5670 7650
HORIZONTAL_DATUM: NAD83
HORIZONTAL_COORDINATE_SYSTEM: UTM
COORDINATE_ZONE: 12
HORIZONTAL_UNITS: METERS
HORIZONTAL_RESOLUTION: 1.00000
SECONDARY_HORIZONTAL_DATUM: NAD27
XY_ORIGIN: 587820.00000 5018670.00000
SECONDARY_XY_ORIGIN: 587880.09700 5018459.94600
NATION: US
STATE: MT
NW_QUAD_CORNER_XY: 588183.85000 5018281.68500
NE_QUAD_CORNER_XY: 593082.94600 5018351.98300
SE_QUAD_CORNERY_XY: 593185.21500 5011408.69400
SW_QUAD_CORNER_XY: 588280.73500 5011338.39500
SECONDARY_NW_QUAD_XY: 588186.47100 5018064.24500
SECONDARY_NE_QUAD_XY: 593085.71300 5018134.54600
SECONDARY_SE_QUAD_XY: 593187.98100 5011191.30800
SECONDARY_SW_QUAD_XY: 588283.35500 5011121.00700
RMSE_XY: 2.84000
IMAGE_SOURCE: BLACK AND WHITE FILM
SOURCE_IMAGE_ID: NAPP 11012 185
SOURCE_IMAGE_DATE: 1998 08 25
SOURCE_IMAGE_ID: NAPP 11012 71
SOURCE_IMAGE_DATE: 1998 08 25
SOURCE_IMAGE_ID: NAPP 11012 166
SOURCE_IMAGE_DATE: 1998 08 25
SOURCE_IMAGE_ID: NAPP 11012 90
SOURCE_IMAGE_DATE: 1998 08 25
SOURCE_DEM_DATE: 2000 01 01
AGENCY: WESTERN MAPPING CENTER (WMC)
PRODUCER: ANALYTICAL SURVEYS INC.
PRODUCTION_SYSTEM: ORBIT OR_RECTIFY V.5.2
COMPRESSION: UNDEFINED
STANDARD_VERSION: 1996 12
METADATA_DATE: 2000 12 13
DATA_FILE_SIZE: 43381170
BYTE_COUNT: 5670
