FILENAME: O4510941.NWS.1145754.tif
QUADRANGLE_NAME: CATHEDRAL POINT
QUADRANT: NW
WEST_LONGITUDE: -110 0 0.00000
EAST_LONGITUDE: -109 56 15.00000
NORTH_LATITUDE: 45 22 30.00000
SOUTH_LATITUDE: 45 18 45.00000
PRODUCTION_DATE: 2001 04 06
RASTER_ORDER: LEFT_RIGHT/TOP_BOTTOM
BAND_ORGANIZATION: SINGLE FILE
BAND_CONTENT: BLACK&WHITE
BAND_CONTENT: UNDEFINED
BAND_CONTENT: UNDEFINED
BITS_PER_PIXEL: 8
SAMPLES_AND_LINES: 5670 7650
HORIZONTAL_DATUM: NAD83
HORIZONTAL_COORDINATE_SYSTEM: UTM
COORDINATE_ZONE: 12
HORIZONTAL_UNITS: METERS
HORIZONTAL_RESOLUTION: 1.00000
SECONDARY_HORIZONTAL_DATUM: NAD27
XY_ORIGIN: 577920.00000 5025480.00000
SECONDARY_XY_ORIGIN: 577980.10000 5025270.06700
NATION: US
STATE: MT
NW_QUAD_CORNER_XY: 578299.44200 5025095.85700
NE_QUAD_CORNER_XY: 583193.15100 5025158.55200
SE_QUAD_CORNERY_XY: 583284.75300 5018215.18700
SW_QUAD_CORNER_XY: 578385.65400 5018152.49100
SECONDARY_NW_QUAD_XY: 578301.77300 5024878.36300
SECONDARY_NE_QUAD_XY: 583195.62700 5024941.06000
SECONDARY_SE_QUAD_XY: 583287.22800 5017997.74600
SECONDARY_SW_QUAD_XY: 578387.98400 5017935.04700
RMSE_XY: 4.44000
IMAGE_SOURCE: BLACK AND WHITE FILM
SOURCE_IMAGE_ID: NAPP 11012 114
SOURCE_IMAGE_DATE: 1998 08 25
SOURCE_IMAGE_ID: NAPP 11012 95
SOURCE_IMAGE_DATE: 1998 08 25
SOURCE_IMAGE_ID: NAPP 11012 112
SOURCE_IMAGE_DATE: 1998 08 25
SOURCE_IMAGE_ID: NAPP 11012 115
SOURCE_IMAGE_DATE: 1998 08 25
SOURCE_IMAGE_ID: NAPP 9185 19
SOURCE_IMAGE_DATE: 1998 07 20
SOURCE_DEM_DATE: 1986 00 00
AGENCY: WESTERN MAPPING CENTER (WMC)
PRODUCER: ANALYTICAL SURVEYS INC.
PRODUCTION_SYSTEM: ORBIT OR_RECTIFY V.5.2
COMPRESSION: UNDEFINED
STANDARD_VERSION: 1996 12
METADATA_DATE: 2001 05 03
DATA_FILE_SIZE: 43381170
BYTE_COUNT: 5670
