FILENAME: O4510941.SWS.1145756.tif
QUADRANGLE_NAME: CATHEDRAL POINT
QUADRANT: SW
WEST_LONGITUDE: -110 0 0.00000
EAST_LONGITUDE: -109 56 15.00000
NORTH_LATITUDE: 45 18 45.00000
SOUTH_LATITUDE: 45 15 0.00000
PRODUCTION_DATE: 2001 04 06
RASTER_ORDER: LEFT_RIGHT/TOP_BOTTOM
BAND_ORGANIZATION: SINGLE FILE
BAND_CONTENT: BLACK&WHITE
BAND_CONTENT: UNDEFINED
BAND_CONTENT: UNDEFINED
BITS_PER_PIXEL: 8
SAMPLES_AND_LINES: 5670 7620
HORIZONTAL_DATUM: NAD83
HORIZONTAL_COORDINATE_SYSTEM: UTM
COORDINATE_ZONE: 12
HORIZONTAL_UNITS: METERS
HORIZONTAL_RESOLUTION: 1.00000
SECONDARY_HORIZONTAL_DATUM: NAD27
XY_ORIGIN: 578010.00000 5018520.00000
SECONDARY_XY_ORIGIN: 578070.17500 5018310.06300
NATION: US
STATE: MT
NW_QUAD_CORNER_XY: 578385.65400 5018152.49100
NE_QUAD_CORNER_XY: 583284.75300 5018215.18700
SE_QUAD_CORNERY_XY: 583376.25400 5011271.89600
SW_QUAD_CORNER_XY: 578471.77200 5011209.19800
SECONDARY_NW_QUAD_XY: 578387.98400 5017935.04700
SECONDARY_NE_QUAD_XY: 583287.22800 5017997.74600
SECONDARY_SE_QUAD_XY: 583378.72800 5011054.50600
SECONDARY_SW_QUAD_XY: 578474.10100 5010991.80600
RMSE_XY: 4.05000
IMAGE_SOURCE: BLACK AND WHITE FILM
SOURCE_IMAGE_ID: NAPP 11012 116
SOURCE_IMAGE_DATE: 1998 08 25
SOURCE_IMAGE_ID: NAPP 9185 17
SOURCE_IMAGE_DATE: 1998 07 20
SOURCE_IMAGE_ID: NAPP 11012 117
SOURCE_IMAGE_DATE: 1998 08 25
SOURCE_DEM_DATE: 1986 00 00
AGENCY: WESTERN MAPPING CENTER (WMC)
PRODUCER: ANALYTICAL SURVEYS INC.
PRODUCTION_SYSTEM: ORBIT OR_RECTIFY V.5.2
COMPRESSION: UNDEFINED
STANDARD_VERSION: 1996 12
METADATA_DATE: 2001 06 11
DATA_FILE_SIZE: 43211070
BYTE_COUNT: 5670
