FILENAME: O4510940.NWS.1121468.tif
QUADRANGLE_NAME: BOYD
QUADRANT: NW
WEST_LONGITUDE: -109 7 30.00000
EAST_LONGITUDE: -109 3 45.00000
NORTH_LATITUDE: 45 30 0.00000
SOUTH_LATITUDE: 45 26 15.00000
PRODUCTION_DATE: 2000 12 15
RASTER_ORDER: LEFT_RIGHT/TOP_BOTTOM
BAND_ORGANIZATION: SINGLE FILE
BAND_CONTENT: BLACK&WHITE
BAND_CONTENT: UNDEFINED
BAND_CONTENT: UNDEFINED
BITS_PER_PIXEL: 8
SAMPLES_AND_LINES: 5730 7680
HORIZONTAL_DATUM: NAD83
HORIZONTAL_COORDINATE_SYSTEM: UTM
COORDINATE_ZONE: 12
HORIZONTAL_UNITS: METERS
HORIZONTAL_RESOLUTION: 1.00000
SECONDARY_HORIZONTAL_DATUM: NAD27
XY_ORIGIN: 646110.00000 5040630.00000
SECONDARY_XY_ORIGIN: 646169.76400 5040419.83300
NATION: US
STATE: MT
NW_QUAD_CORNER_XY: 646487.33300 5040206.39400
NE_QUAD_CORNER_XY: 651370.21400 5040322.30800
SE_QUAD_CORNERY_XY: 651537.65900 5033378.83800
SW_QUAD_CORNER_XY: 646649.37200 5033262.92000
SECONDARY_NW_QUAD_XY: 646491.70400 5039988.83700
SECONDARY_NE_QUAD_XY: 651374.73200 5040104.75400
SECONDARY_SE_QUAD_XY: 651542.17500 5033161.33300
SECONDARY_SW_QUAD_XY: 646653.74300 5033045.41100
RMSE_XY: 1.81000
IMAGE_SOURCE: BLACK AND WHITE FILM
SOURCE_IMAGE_ID: NAPP 9129 130
SOURCE_IMAGE_DATE: 1996 07 27
SOURCE_DEM_DATE: 1956 00 00
AGENCY: WESTERN MAPPING CENTER (WMC)
PRODUCER: ANALYTICAL SURVEYS INC.
PRODUCTION_SYSTEM: ORBIT OR_RECTIFY V.5.2
COMPRESSION: UNDEFINED
STANDARD_VERSION: 1996 12
METADATA_DATE: 2000 12 15
DATA_FILE_SIZE: 44012130
BYTE_COUNT: 5730
