FILENAME: O4510940.SES.1121469.tif
QUADRANGLE_NAME: BOYD
QUADRANT: SE
WEST_LONGITUDE: -109 3 45.00000
EAST_LONGITUDE: -109 0 0.00000
NORTH_LATITUDE: 45 26 15.00000
SOUTH_LATITUDE: 45 22 30.00000
PRODUCTION_DATE: 2000 12 15
RASTER_ORDER: LEFT_RIGHT/TOP_BOTTOM
BAND_ORGANIZATION: SINGLE FILE
BAND_CONTENT: BLACK&WHITE
BAND_CONTENT: UNDEFINED
BAND_CONTENT: UNDEFINED
BITS_PER_PIXEL: 8
SAMPLES_AND_LINES: 5730 7710
HORIZONTAL_DATUM: NAD83
HORIZONTAL_COORDINATE_SYSTEM: UTM
COORDINATE_ZONE: 12
HORIZONTAL_UNITS: METERS
HORIZONTAL_RESOLUTION: 1.00000
SECONDARY_HORIZONTAL_DATUM: NAD27
XY_ORIGIN: 651180.00000 5033820.00000
SECONDARY_XY_ORIGIN: 651239.68900 5033609.86000
NATION: US
STATE: MT
NW_QUAD_CORNER_XY: 651537.65900 5033378.83800
NE_QUAD_CORNER_XY: 656425.94300 5033498.55900
SE_QUAD_CORNERY_XY: 656598.60600 5026555.16000
SW_QUAD_CORNER_XY: 651704.92200 5026435.43500
SECONDARY_NW_QUAD_XY: 651542.17500 5033161.33300
SECONDARY_NE_QUAD_XY: 656430.60500 5033281.05800
SECONDARY_SE_QUAD_XY: 656603.26700 5026337.70900
SECONDARY_SW_QUAD_XY: 651709.43700 5026217.98000
RMSE_XY: 1.35000
IMAGE_SOURCE: BLACK AND WHITE FILM
SOURCE_IMAGE_ID: NAPP 9129 110
SOURCE_IMAGE_DATE: 1996 07 27
SOURCE_DEM_DATE: 1956 00 00
AGENCY: WESTERN MAPPING CENTER (WMC)
PRODUCER: ANALYTICAL SURVEYS INC.
PRODUCTION_SYSTEM: ORBIT OR_RECTIFY V.5.2
COMPRESSION: UNDEFINED
STANDARD_VERSION: 1996 12
METADATA_DATE: 2000 12 15
DATA_FILE_SIZE: 44184030
BYTE_COUNT: 5730
