FILENAME: O4510938.NES.1121459.tif
QUADRANGLE_NAME: ROSCOE NE
QUADRANT: NE
WEST_LONGITUDE: -109 18 45.00000
EAST_LONGITUDE: -109 15 0.00000
NORTH_LATITUDE: 45 30 0.00000
SOUTH_LATITUDE: 45 26 15.00000
PRODUCTION_DATE: 2000 12 15
RASTER_ORDER: LEFT_RIGHT/TOP_BOTTOM
BAND_ORGANIZATION: SINGLE FILE
BAND_CONTENT: BLACK&WHITE
BAND_CONTENT: UNDEFINED
BAND_CONTENT: UNDEFINED
BITS_PER_PIXEL: 8
SAMPLES_AND_LINES: 5730 7680
HORIZONTAL_DATUM: NAD83
HORIZONTAL_COORDINATE_SYSTEM: UTM
COORDINATE_ZONE: 12
HORIZONTAL_UNITS: METERS
HORIZONTAL_RESOLUTION: 1.00000
SECONDARY_HORIZONTAL_DATUM: NAD27
XY_ORIGIN: 631470.00000 5040300.00000
SECONDARY_XY_ORIGIN: 631529.87200 5040089.84700
NATION: US
STATE: MT
NW_QUAD_CORNER_XY: 631838.67200 5039881.46900
NE_QUAD_CORNER_XY: 636721.56100 5039985.97400
SE_QUAD_CORNERY_XY: 636872.79100 5033042.49300
SW_QUAD_CORNER_XY: 631984.49700 5032937.98400
SECONDARY_NW_QUAD_XY: 631842.60600 5039663.90200
SECONDARY_NE_QUAD_XY: 636725.64200 5039768.41100
SECONDARY_SE_QUAD_XY: 636876.87000 5032824.97800
SECONDARY_SW_QUAD_XY: 631988.43100 5032720.46600
RMSE_XY: 1.42000
IMAGE_SOURCE: BLACK AND WHITE FILM
SOURCE_IMAGE_ID: NAPP 9153 84
SOURCE_IMAGE_DATE: 1997 08 28
SOURCE_DEM_DATE: 1956 00 00
AGENCY: WESTERN MAPPING CENTER (WMC)
PRODUCER: ANALYTICAL SURVEYS INC.
PRODUCTION_SYSTEM: ORBIT OR_RECTIFY V.5.2
COMPRESSION: UNDEFINED
STANDARD_VERSION: 1996 12
METADATA_DATE: 2000 12 15
DATA_FILE_SIZE: 44012130
BYTE_COUNT: 5730
