FILENAME: O4510938.SWS.1121462.tif
QUADRANGLE_NAME: ROSCOE NE
QUADRANT: SW
WEST_LONGITUDE: -109 22 30.00000
EAST_LONGITUDE: -109 18 45.00000
NORTH_LATITUDE: 45 26 15.00000
SOUTH_LATITUDE: 45 22 30.00000
PRODUCTION_DATE: 2000 12 15
RASTER_ORDER: LEFT_RIGHT/TOP_BOTTOM
BAND_ORGANIZATION: SINGLE FILE
BAND_CONTENT: BLACK&WHITE
BAND_CONTENT: UNDEFINED
BAND_CONTENT: UNDEFINED
BITS_PER_PIXEL: 8
SAMPLES_AND_LINES: 5730 7680
HORIZONTAL_DATUM: NAD83
HORIZONTAL_COORDINATE_SYSTEM: UTM
COORDINATE_ZONE: 12
HORIZONTAL_UNITS: METERS
HORIZONTAL_RESOLUTION: 1.00000
SECONDARY_HORIZONTAL_DATUM: NAD27
XY_ORIGIN: 626730.00000 5033250.00000
SECONDARY_XY_ORIGIN: 626789.87900 5033039.87700
NATION: US
STATE: MT
NW_QUAD_CORNER_XY: 627096.20100 5032837.27700
NE_QUAD_CORNER_XY: 631984.49700 5032937.98400
SE_QUAD_CORNERY_XY: 632130.16500 5025994.56800
SW_QUAD_CORNER_XY: 627236.47100 5025893.85900
SECONDARY_NW_QUAD_XY: 627099.98900 5032619.75600
SECONDARY_NE_QUAD_XY: 631988.43100 5032720.46600
SECONDARY_SE_QUAD_XY: 632134.09700 5025777.10100
SECONDARY_SW_QUAD_XY: 627240.25700 5025676.38800
RMSE_XY: 1.79000
IMAGE_SOURCE: BLACK AND WHITE FILM
SOURCE_IMAGE_ID: NAPP 9149 40
SOURCE_IMAGE_DATE: 1996 09 02
SOURCE_DEM_DATE: 1956 00 00
AGENCY: WESTERN MAPPING CENTER (WMC)
PRODUCER: ANALYTICAL SURVEYS INC.
PRODUCTION_SYSTEM: ORBIT OR_RECTIFY V.5.2
COMPRESSION: UNDEFINED
STANDARD_VERSION: 1996 12
METADATA_DATE: 2000 12 15
DATA_FILE_SIZE: 44012130
BYTE_COUNT: 5730
