FILENAME: O4510935.NES.1121503.tif
QUADRANGLE_NAME: BEEHIVE
QUADRANT: NE
WEST_LONGITUDE: -109 41 15.00000
EAST_LONGITUDE: -109 37 30.00000
NORTH_LATITUDE: 45 30 0.00000
SOUTH_LATITUDE: 45 26 15.00000
PRODUCTION_DATE: 2000 12 11
RASTER_ORDER: LEFT_RIGHT/TOP_BOTTOM
BAND_ORGANIZATION: SINGLE FILE
BAND_CONTENT: BLACK&WHITE
BAND_CONTENT: UNDEFINED
BAND_CONTENT: UNDEFINED
BITS_PER_PIXEL: 8
SAMPLES_AND_LINES: 5700 7650
HORIZONTAL_DATUM: NAD83
HORIZONTAL_COORDINATE_SYSTEM: UTM
COORDINATE_ZONE: 12
HORIZONTAL_UNITS: METERS
HORIZONTAL_RESOLUTION: 1.00000
SECONDARY_HORIZONTAL_DATUM: NAD27
XY_ORIGIN: 602160.00000 5039730.00000
SECONDARY_XY_ORIGIN: 602219.87800 5039519.75400
NATION: US
STATE: MT
NW_QUAD_CORNER_XY: 602541.28300 5039334.27500
NE_QUAD_CORNER_XY: 607424.18700 5039415.97100
SE_QUAD_CORNERY_XY: 607542.99600 5032472.47000
SW_QUAD_CORNER_XY: 602654.69000 5032390.77200
SECONDARY_NW_QUAD_XY: 602544.34300 5039116.69200
SECONDARY_NE_QUAD_XY: 607427.39200 5039198.39000
SECONDARY_SE_QUAD_XY: 607546.20100 5032254.93800
SECONDARY_SW_QUAD_XY: 602657.74900 5032173.23800
RMSE_XY: 2.34000
IMAGE_SOURCE: BLACK AND WHITE FILM
SOURCE_IMAGE_ID: NAPP 9150 70
SOURCE_IMAGE_DATE: 1996 09 11
SOURCE_IMAGE_ID: NAPP 9150 63
SOURCE_IMAGE_DATE: 1996 09 11
SOURCE_DEM_DATE: 1951 00 00
AGENCY: WESTERN MAPPING CENTER (WMC)
PRODUCER: ANALYTICAL SURVEYS INC.
PRODUCTION_SYSTEM: ORBIT OR_RECTIFY V.5.2
COMPRESSION: UNDEFINED
STANDARD_VERSION: 1996 12
METADATA_DATE: 2000 12 28
DATA_FILE_SIZE: 43610700
BYTE_COUNT: 5700
