FILENAME: O4510935.NWS.1121504.tif
QUADRANGLE_NAME: BEEHIVE
QUADRANT: NW
WEST_LONGITUDE: -109 45 0.00000
EAST_LONGITUDE: -109 41 15.00000
NORTH_LATITUDE: 45 30 0.00000
SOUTH_LATITUDE: 45 26 15.00000
PRODUCTION_DATE: 2000 12 11
RASTER_ORDER: LEFT_RIGHT/TOP_BOTTOM
BAND_ORGANIZATION: SINGLE FILE
BAND_CONTENT: BLACK&WHITE
BAND_CONTENT: UNDEFINED
BAND_CONTENT: UNDEFINED
BITS_PER_PIXEL: 8
SAMPLES_AND_LINES: 5670 7650
HORIZONTAL_DATUM: NAD83
HORIZONTAL_COORDINATE_SYSTEM: UTM
COORDINATE_ZONE: 12
HORIZONTAL_UNITS: METERS
HORIZONTAL_RESOLUTION: 1.00000
SECONDARY_HORIZONTAL_DATUM: NAD27
XY_ORIGIN: 597300.00000 5039640.00000
SECONDARY_XY_ORIGIN: 597359.86600 5039429.71900
NATION: US
STATE: MT
NW_QUAD_CORNER_XY: 597658.37700 5039256.38100
NE_QUAD_CORNER_XY: 602541.28300 5039334.27500
SE_QUAD_CORNERY_XY: 602654.69000 5032390.77200
SW_QUAD_CORNER_XY: 597766.38300 5032312.87600
SECONDARY_NW_QUAD_XY: 597661.29200 5039038.79600
SECONDARY_NE_QUAD_XY: 602544.34300 5039116.69200
SECONDARY_SE_QUAD_XY: 602657.74900 5032173.23800
SECONDARY_SW_QUAD_XY: 597769.29600 5032095.33900
RMSE_XY: 3.41000
IMAGE_SOURCE: BLACK AND WHITE FILM
SOURCE_IMAGE_ID: NAPP 9154 46
SOURCE_IMAGE_DATE: 1997 08 28
SOURCE_IMAGE_ID: NAPP 9150 70
SOURCE_IMAGE_DATE: 1996 09 11
SOURCE_DEM_DATE: 1951 00 00
AGENCY: WESTERN MAPPING CENTER (WMC)
PRODUCER: ANALYTICAL SURVEYS INC.
PRODUCTION_SYSTEM: ORBIT OR_RECTIFY V.5.2
COMPRESSION: UNDEFINED
STANDARD_VERSION: 1996 12
METADATA_DATE: 2000 12 15
DATA_FILE_SIZE: 43381170
BYTE_COUNT: 5670
