FILENAME: O4510935.SES.1121505.tif
QUADRANGLE_NAME: BEEHIVE
QUADRANT: SE
WEST_LONGITUDE: -109 41 15.00000
EAST_LONGITUDE: -109 37 30.00000
NORTH_LATITUDE: 45 26 15.00000
SOUTH_LATITUDE: 45 22 30.00000
PRODUCTION_DATE: 2000 12 11
RASTER_ORDER: LEFT_RIGHT/TOP_BOTTOM
BAND_ORGANIZATION: SINGLE FILE
BAND_CONTENT: BLACK&WHITE
BAND_CONTENT: UNDEFINED
BAND_CONTENT: UNDEFINED
BITS_PER_PIXEL: 8
SAMPLES_AND_LINES: 5700 7680
HORIZONTAL_DATUM: NAD83
HORIZONTAL_COORDINATE_SYSTEM: UTM
COORDINATE_ZONE: 12
HORIZONTAL_UNITS: METERS
HORIZONTAL_RESOLUTION: 1.00000
SECONDARY_HORIZONTAL_DATUM: NAD27
XY_ORIGIN: 602280.00000 5032800.00000
SECONDARY_XY_ORIGIN: 602339.91900 5032589.78500
NATION: US
STATE: MT
NW_QUAD_CORNER_XY: 602654.69000 5032390.77200
NE_QUAD_CORNER_XY: 607542.99600 5032472.47000
SE_QUAD_CORNERY_XY: 607661.67700 5025529.04200
SW_QUAD_CORNER_XY: 602767.97500 5025447.34200
SECONDARY_NW_QUAD_XY: 602657.74900 5032173.23800
SECONDARY_NE_QUAD_XY: 607546.20100 5032254.93800
SECONDARY_SE_QUAD_XY: 607664.88100 5025311.56000
SECONDARY_SW_QUAD_XY: 602771.03300 5025229.85800
RMSE_XY: 2.40000
IMAGE_SOURCE: BLACK AND WHITE FILM
SOURCE_IMAGE_ID: NAPP 9150 68
SOURCE_IMAGE_DATE: 1996 09 11
SOURCE_IMAGE_ID: NAPP 9150 70
SOURCE_IMAGE_DATE: 1996 09 11
SOURCE_IMAGE_ID: NAPP 11012 131
SOURCE_IMAGE_DATE: 1998 08 25
SOURCE_DEM_DATE: 1951 00 00
AGENCY: WESTERN MAPPING CENTER (WMC)
PRODUCER: ANALYTICAL SURVEYS INC.
PRODUCTION_SYSTEM: ORBIT OR_RECTIFY V.5.2
COMPRESSION: UNDEFINED
STANDARD_VERSION: 1996 12
METADATA_DATE: 2000 12 16
DATA_FILE_SIZE: 43781700
BYTE_COUNT: 5700
