FILENAME: O4510931.SWS.1123046.tif
QUADRANGLE_NAME: SHANE RIDGE
QUADRANT: SW
WEST_LONGITUDE: -109 15 0.00000
EAST_LONGITUDE: -109 11 15.00000
NORTH_LATITUDE: 45 33 45.00000
SOUTH_LATITUDE: 45 30 0.00000
PRODUCTION_DATE: 2000 12 01
RASTER_ORDER: LEFT_RIGHT/TOP_BOTTOM
BAND_ORGANIZATION: SINGLE FILE
BAND_CONTENT: BLACK&WHITE
BAND_CONTENT: UNDEFINED
BAND_CONTENT: UNDEFINED
BITS_PER_PIXEL: 8
SAMPLES_AND_LINES: 5700 7680
HORIZONTAL_DATUM: NAD83
HORIZONTAL_COORDINATE_SYSTEM: UTM
COORDINATE_ZONE: 12
HORIZONTAL_UNITS: METERS
HORIZONTAL_RESOLUTION: 1.00000
SECONDARY_HORIZONTAL_DATUM: NAD27
XY_ORIGIN: 636210.00000 5047350.00000
SECONDARY_XY_ORIGIN: 636269.83300 5047139.97200
NATION: US
STATE: MT
NW_QUAD_CORNER_XY: 636570.16800 5046929.52500
NE_QUAD_CORNER_XY: 641447.64500 5047037.83000
SE_QUAD_CORNERY_XY: 641604.44800 5040094.28300
SW_QUAD_CORNER_XY: 636721.56100 5039985.97400
SECONDARY_NW_QUAD_XY: 636574.24900 5046711.91300
SECONDARY_NE_QUAD_XY: 641451.87100 5046820.22100
SECONDARY_SE_QUAD_XY: 641608.67400 5039876.72200
SECONDARY_SW_QUAD_XY: 636725.64200 5039768.41100
RMSE_XY: 2.08000
IMAGE_SOURCE: BLACK AND WHITE FILM
SOURCE_IMAGE_ID: NAPP 9153 8
SOURCE_IMAGE_DATE: 1997 08 28
SOURCE_DEM_DATE: 1956 00 00
AGENCY: WESTERN MAPPING CENTER (WMC)
PRODUCER: ANALYTICAL SURVEYS INC.
PRODUCTION_SYSTEM: ORBIT OR_RECTIFY V.5.2
COMPRESSION: UNDEFINED
STANDARD_VERSION: 1996 12
METADATA_DATE: 2000 12 05
DATA_FILE_SIZE: 43781700
BYTE_COUNT: 5700
