FILENAME: O4510928.NES.1122983.tif
QUADRANGLE_NAME: SANDBORN CREEK
QUADRANT: NE
WEST_LONGITUDE: -109 33 45.00000
EAST_LONGITUDE: -109 30 0.00000
NORTH_LATITUDE: 45 37 30.00000
SOUTH_LATITUDE: 45 33 45.00000
PRODUCTION_DATE: 2000 11 23
RASTER_ORDER: LEFT_RIGHT/TOP_BOTTOM
BAND_ORGANIZATION: SINGLE FILE
BAND_CONTENT: BLACK&WHITE
BAND_CONTENT: UNDEFINED
BAND_CONTENT: UNDEFINED
BITS_PER_PIXEL: 8
SAMPLES_AND_LINES: 5670 7680
HORIZONTAL_DATUM: NAD83
HORIZONTAL_COORDINATE_SYSTEM: UTM
COORDINATE_ZONE: 12
HORIZONTAL_UNITS: METERS
HORIZONTAL_RESOLUTION: 1.00000
SECONDARY_HORIZONTAL_DATUM: NAD27
XY_ORIGIN: 611700.00000 5053800.00000
SECONDARY_XY_ORIGIN: 611760.02100 5053589.97000
NATION: US
STATE: MT
NW_QUAD_CORNER_XY: 612058.26000 5053388.67700
NE_QUAD_CORNER_XY: 616930.33600 5053477.96700
SE_QUAD_CORNERY_XY: 617060.23200 5046534.33000
SW_QUAD_CORNER_XY: 612182.74100 5046445.03600
SECONDARY_NW_QUAD_XY: 612061.61300 5053171.00200
SECONDARY_NE_QUAD_XY: 616933.83500 5053260.29600
SECONDARY_SE_QUAD_XY: 617063.73000 5046316.70600
SECONDARY_SW_QUAD_XY: 612186.09400 5046227.40900
RMSE_XY: 2.51000
IMAGE_SOURCE: BLACK AND WHITE FILM
SOURCE_IMAGE_ID: NAPP 9154 37
SOURCE_IMAGE_DATE: 1997 08 28
SOURCE_IMAGE_ID: NAPP 9154 39
SOURCE_IMAGE_DATE: 1997 08 28
SOURCE_DEM_DATE: 1955 00 00
AGENCY: WESTERN MAPPING CENTER (WMC)
PRODUCER: ANALYTICAL SURVEYS INC.
PRODUCTION_SYSTEM: ORBIT OR_RECTIFY V.5.2
COMPRESSION: UNDEFINED
STANDARD_VERSION: 1996 12
METADATA_DATE: 2000 11 27
DATA_FILE_SIZE: 43551270
BYTE_COUNT: 5670
