FILENAME: O4510927.SWS.1122982.tif
QUADRANGLE_NAME: COW FACE HILL
QUADRANT: SW
WEST_LONGITUDE: -109 45 0.00000
EAST_LONGITUDE: -109 41 15.00000
NORTH_LATITUDE: 45 33 45.00000
SOUTH_LATITUDE: 45 30 0.00000
PRODUCTION_DATE: 2000 11 23
RASTER_ORDER: LEFT_RIGHT/TOP_BOTTOM
BAND_ORGANIZATION: SINGLE FILE
BAND_CONTENT: BLACK&WHITE
BAND_CONTENT: UNDEFINED
BAND_CONTENT: UNDEFINED
BITS_PER_PIXEL: 8
SAMPLES_AND_LINES: 5670 7680
HORIZONTAL_DATUM: NAD83
HORIZONTAL_COORDINATE_SYSTEM: UTM
COORDINATE_ZONE: 12
HORIZONTAL_UNITS: METERS
HORIZONTAL_RESOLUTION: 1.00000
SECONDARY_HORIZONTAL_DATUM: NAD27
XY_ORIGIN: 597180.00000 5046600.00000
SECONDARY_XY_ORIGIN: 597239.98500 5046389.82300
NATION: US
STATE: MT
NW_QUAD_CORNER_XY: 597550.25500 5046199.96000
NE_QUAD_CORNER_XY: 602427.75300 5046277.85100
SE_QUAD_CORNERY_XY: 602541.28300 5039334.27500
SW_QUAD_CORNER_XY: 597658.37700 5039256.38100
SECONDARY_NW_QUAD_XY: 597553.17000 5045982.32600
SECONDARY_NE_QUAD_XY: 602430.81400 5046060.21900
SECONDARY_SE_QUAD_XY: 602544.34300 5039116.69200
SECONDARY_SW_QUAD_XY: 597661.29200 5039038.79600
RMSE_XY: 3.33000
IMAGE_SOURCE: BLACK AND WHITE FILM
SOURCE_IMAGE_ID: NAPP 9154 48
SOURCE_IMAGE_DATE: 1997 08 28
SOURCE_DEM_DATE: 1955 00 00
AGENCY: WESTERN MAPPING CENTER (WMC)
PRODUCER: ANALYTICAL SURVEYS INC.
PRODUCTION_SYSTEM: ORBIT OR_RECTIFY V.5.2
COMPRESSION: UNDEFINED
STANDARD_VERSION: 1996 12
METADATA_DATE: 2000 11 27
DATA_FILE_SIZE: 43551270
BYTE_COUNT: 5670
