FILENAME: O4510923.SES.1123057.tif
QUADRANGLE_NAME: COLUMBUS EAST
QUADRANT: SE
WEST_LONGITUDE: -109 11 15.00000
EAST_LONGITUDE: -109 7 30.00000
NORTH_LATITUDE: 45 41 15.00000
SOUTH_LATITUDE: 45 37 30.00000
PRODUCTION_DATE: 2000 11 30
RASTER_ORDER: LEFT_RIGHT/TOP_BOTTOM
BAND_ORGANIZATION: SINGLE FILE
BAND_CONTENT: BLACK&WHITE
BAND_CONTENT: UNDEFINED
BAND_CONTENT: UNDEFINED
BITS_PER_PIXEL: 8
SAMPLES_AND_LINES: 5700 7710
HORIZONTAL_DATUM: NAD83
HORIZONTAL_COORDINATE_SYSTEM: UTM
COORDINATE_ZONE: 12
HORIZONTAL_UNITS: METERS
HORIZONTAL_RESOLUTION: 1.00000
SECONDARY_HORIZONTAL_DATUM: NAD27
XY_ORIGIN: 640770.00000 5061360.00000
SECONDARY_XY_ORIGIN: 640829.76200 5061150.12900
NATION: US
STATE: MT
NW_QUAD_CORNER_XY: 641133.52900 5060925.12900
NE_QUAD_CORNER_XY: 646000.16300 5061037.22600
SE_QUAD_CORNERY_XY: 646162.72800 5054093.54700
SW_QUAD_CORNER_XY: 641290.67100 5053981.44500
SECONDARY_NW_QUAD_XY: 641137.75800 5060707.42600
SECONDARY_NE_QUAD_XY: 646004.53800 5060819.52600
SECONDARY_SE_QUAD_XY: 646167.10200 5053875.89400
SECONDARY_SW_QUAD_XY: 641294.89900 5053763.78900
RMSE_XY: 0.75000
IMAGE_SOURCE: BLACK AND WHITE FILM
SOURCE_IMAGE_ID: NAPP 9160 142
SOURCE_IMAGE_DATE: 1997 09 23
SOURCE_IMAGE_ID: NAPP 9160 144
SOURCE_IMAGE_DATE: 1997 09 23
SOURCE_IMAGE_ID: NAPP 9153 12
SOURCE_IMAGE_DATE: 1997 08 28
SOURCE_DEM_DATE: 1956 00 00
AGENCY: WESTERN MAPPING CENTER (WMC)
PRODUCER: ANALYTICAL SURVEYS INC.
PRODUCTION_SYSTEM: ORBIT OR_RECTIFY V.5.2
COMPRESSION: UNDEFINED
STANDARD_VERSION: 1996 12
METADATA_DATE: 2000 12 09
DATA_FILE_SIZE: 43952700
BYTE_COUNT: 5700
