FILENAME: O4510919.SES.1122993.tif
QUADRANGLE_NAME: WORK CREEK
QUADRANT: SE
WEST_LONGITUDE: -109 41 15.00000
EAST_LONGITUDE: -109 37 30.00000
NORTH_LATITUDE: 45 41 15.00000
SOUTH_LATITUDE: 45 37 30.00000
PRODUCTION_DATE: 2000 11 22
RASTER_ORDER: LEFT_RIGHT/TOP_BOTTOM
BAND_ORGANIZATION: SINGLE FILE
BAND_CONTENT: BLACK&WHITE
BAND_CONTENT: UNDEFINED
BAND_CONTENT: UNDEFINED
BITS_PER_PIXEL: 8
SAMPLES_AND_LINES: 5670 7650
HORIZONTAL_DATUM: NAD83
HORIZONTAL_COORDINATE_SYSTEM: UTM
COORDINATE_ZONE: 12
HORIZONTAL_UNITS: METERS
HORIZONTAL_RESOLUTION: 1.00000
SECONDARY_HORIZONTAL_DATUM: NAD27
XY_ORIGIN: 601830.00000 5060550.00000
SECONDARY_XY_ORIGIN: 601890.17400 5060340.03200
NATION: US
STATE: MT
NW_QUAD_CORNER_XY: 602200.32500 5060165.21800
NE_QUAD_CORNER_XY: 607066.98600 5060246.90300
SE_QUAD_CORNERY_XY: 607186.18200 5053303.18700
SW_QUAD_CORNER_XY: 602314.10000 5053221.49800
SECONDARY_NW_QUAD_XY: 602203.38700 5059947.49300
SECONDARY_NE_QUAD_XY: 607070.19500 5060029.18000
SECONDARY_SE_QUAD_XY: 607189.38900 5053085.51000
SECONDARY_SW_QUAD_XY: 602317.16200 5053003.81900
RMSE_XY: 1.92000
IMAGE_SOURCE: BLACK AND WHITE FILM
SOURCE_IMAGE_ID: NAPP 9160 139
SOURCE_IMAGE_DATE: 1997 09 23
SOURCE_IMAGE_ID: NAPP 9150 57
SOURCE_IMAGE_DATE: 1996 09 11
SOURCE_DEM_DATE: 1981 00 00
AGENCY: WESTERN MAPPING CENTER (WMC)
PRODUCER: ANALYTICAL SURVEYS INC.
PRODUCTION_SYSTEM: ORBIT OR_RECTIFY V.5.2
COMPRESSION: UNDEFINED
STANDARD_VERSION: 1996 12
METADATA_DATE: 2000 11 23
DATA_FILE_SIZE: 43381170
BYTE_COUNT: 5670
