FILENAME: O4510918.NES.1145729.tif
QUADRANGLE_NAME: PACKSADDLE BUTTE
QUADRANT: NE
WEST_LONGITUDE: -109 48 45.00000
EAST_LONGITUDE: -109 45 0.00000
NORTH_LATITUDE: 45 45 0.00000
SOUTH_LATITUDE: 45 41 15.00000
PRODUCTION_DATE: 2001 03 28
RASTER_ORDER: LEFT_RIGHT/TOP_BOTTOM
BAND_ORGANIZATION: SINGLE FILE
BAND_CONTENT: BLACK&WHITE
BAND_CONTENT: UNDEFINED
BAND_CONTENT: UNDEFINED
BITS_PER_PIXEL: 8
SAMPLES_AND_LINES: 5670 7680
HORIZONTAL_DATUM: NAD83
HORIZONTAL_COORDINATE_SYSTEM: UTM
COORDINATE_ZONE: 12
HORIZONTAL_UNITS: METERS
HORIZONTAL_RESOLUTION: 1.00000
SECONDARY_HORIZONTAL_DATUM: NAD27
XY_ORIGIN: 591990.00000 5067360.00000
SECONDARY_XY_ORIGIN: 592050.26500 5067150.10700
NATION: US
STATE: MT
NW_QUAD_CORNER_XY: 592363.94700 5066957.05000
NE_QUAD_CORNER_XY: 597225.18800 5067031.13000
SE_QUAD_CORNERY_XY: 597333.66100 5060087.33400
SW_QUAD_CORNER_XY: 592466.99400 5060013.25000
SECONDARY_NW_QUAD_XY: 592366.71800 5066739.27400
SECONDARY_NE_QUAD_XY: 597228.10500 5066813.35700
SECONDARY_SE_QUAD_XY: 597336.57700 5059869.60600
SECONDARY_SW_QUAD_XY: 592469.76400 5059795.52000
RMSE_XY: 2.45000
IMAGE_SOURCE: BLACK AND WHITE FILM
SOURCE_IMAGE_ID: NAPP 9150 173
SOURCE_IMAGE_DATE: 1996 09 11
SOURCE_IMAGE_ID: NAPP 9150 175
SOURCE_IMAGE_DATE: 1996 09 11
SOURCE_IMAGE_ID: NAPP 11012 78
SOURCE_IMAGE_DATE: 1998 08 25
SOURCE_DEM_DATE: 1995 00 00
AGENCY: WESTERN MAPPING CENTER (WMC)
PRODUCER: ANALYTICAL SURVEYS INC.
PRODUCTION_SYSTEM: ORBIT OR_RECTIFY V.5.2
COMPRESSION: UNDEFINED
STANDARD_VERSION: 1996 12
METADATA_DATE: 2001 03 29
DATA_FILE_SIZE: 43551270
BYTE_COUNT: 5670
