FILENAME: O4510918.SES.1145731.tif
QUADRANGLE_NAME: PACKSADDLE BUTTE
QUADRANT: SE
WEST_LONGITUDE: -109 48 45.00000
EAST_LONGITUDE: -109 45 0.00000
NORTH_LATITUDE: 45 41 15.00000
SOUTH_LATITUDE: 45 37 30.00000
PRODUCTION_DATE: 2001 03 28
RASTER_ORDER: LEFT_RIGHT/TOP_BOTTOM
BAND_ORGANIZATION: SINGLE FILE
BAND_CONTENT: BLACK&WHITE
BAND_CONTENT: UNDEFINED
BAND_CONTENT: UNDEFINED
BITS_PER_PIXEL: 8
SAMPLES_AND_LINES: 5670 7650
HORIZONTAL_DATUM: NAD83
HORIZONTAL_COORDINATE_SYSTEM: UTM
COORDINATE_ZONE: 12
HORIZONTAL_UNITS: METERS
HORIZONTAL_RESOLUTION: 1.00000
SECONDARY_HORIZONTAL_DATUM: NAD27
XY_ORIGIN: 592080.00000 5060400.00000
SECONDARY_XY_ORIGIN: 592140.17500 5060190.03600
NATION: US
STATE: MT
NW_QUAD_CORNER_XY: 592466.99400 5060013.25000
NE_QUAD_CORNER_XY: 597333.66100 5060087.33400
SE_QUAD_CORNERY_XY: 597442.01600 5053143.61000
SW_QUAD_CORNER_XY: 592569.93000 5053069.52300
SECONDARY_NW_QUAD_XY: 592469.76400 5059795.52000
SECONDARY_NE_QUAD_XY: 597336.57700 5059869.60600
SECONDARY_SE_QUAD_XY: 597444.93200 5052925.92900
SECONDARY_SW_QUAD_XY: 592572.70000 5052851.84000
RMSE_XY: 2.66000
IMAGE_SOURCE: BLACK AND WHITE FILM
SOURCE_IMAGE_ID: NAPP 9150 175
SOURCE_IMAGE_DATE: 1996 09 11
SOURCE_IMAGE_ID: NAPP 9150 173
SOURCE_IMAGE_DATE: 1996 09 11
SOURCE_IMAGE_ID: NAPP 11012 80
SOURCE_IMAGE_DATE: 1998 08 25
SOURCE_DEM_DATE: 1995 00 00
AGENCY: WESTERN MAPPING CENTER (WMC)
PRODUCER: ANALYTICAL SURVEYS INC.
PRODUCTION_SYSTEM: ORBIT OR_RECTIFY V.5.2
COMPRESSION: UNDEFINED
STANDARD_VERSION: 1996 12
METADATA_DATE: 2001 03 29
DATA_FILE_SIZE: 43381170
BYTE_COUNT: 5670
