FILENAME: O4510915.NES.1123031.tif
QUADRANGLE_NAME: WHEAT BASIN SW
QUADRANT: NE
WEST_LONGITUDE: -109 11 15.00000
EAST_LONGITUDE: -109 7 30.00000
NORTH_LATITUDE: 45 52 30.00000
SOUTH_LATITUDE: 45 48 45.00000
PRODUCTION_DATE: 2000 11 30
RASTER_ORDER: LEFT_RIGHT/TOP_BOTTOM
BAND_ORGANIZATION: SINGLE FILE
BAND_CONTENT: BLACK&WHITE
BAND_CONTENT: UNDEFINED
BAND_CONTENT: UNDEFINED
BITS_PER_PIXEL: 8
SAMPLES_AND_LINES: 5700 7680
HORIZONTAL_DATUM: NAD83
HORIZONTAL_COORDINATE_SYSTEM: UTM
COORDINATE_ZONE: 12
HORIZONTAL_UNITS: METERS
HORIZONTAL_RESOLUTION: 1.00000
SECONDARY_HORIZONTAL_DATUM: NAD27
XY_ORIGIN: 640290.00000 5082180.00000
SECONDARY_XY_ORIGIN: 640349.86000 5081969.73400
NATION: US
STATE: MT
NW_QUAD_CORNER_XY: 640661.08800 5081756.59400
NE_QUAD_CORNER_XY: 645511.42000 5081868.67100
SE_QUAD_CORNERY_XY: 645674.50900 5074924.78800
SW_QUAD_CORNER_XY: 640818.73700 5074812.70300
SECONDARY_NW_QUAD_XY: 640665.32000 5081538.75600
SECONDARY_NE_QUAD_XY: 645515.79900 5081650.83700
SECONDARY_SE_QUAD_XY: 645678.88600 5074706.99800
SECONDARY_SW_QUAD_XY: 640822.96800 5074594.91000
RMSE_XY: 1.52000
IMAGE_SOURCE: BLACK AND WHITE FILM
SOURCE_IMAGE_ID: NAPP 9139 177
SOURCE_IMAGE_DATE: 1996 08 26
SOURCE_DEM_DATE: 1956 00 00
AGENCY: WESTERN MAPPING CENTER (WMC)
PRODUCER: ANALYTICAL SURVEYS INC.
PRODUCTION_SYSTEM: ORBIT OR_RECTIFY V.5.2
COMPRESSION: UNDEFINED
STANDARD_VERSION: 1996 12
METADATA_DATE: 2000 12 01
DATA_FILE_SIZE: 43781700
BYTE_COUNT: 5700
