FILENAME: O4510915.NWS.1123032.tif
QUADRANGLE_NAME: WHEAT BASIN SW
QUADRANT: NW
WEST_LONGITUDE: -109 15 0.00000
EAST_LONGITUDE: -109 11 15.00000
NORTH_LATITUDE: 45 52 30.00000
SOUTH_LATITUDE: 45 48 45.00000
PRODUCTION_DATE: 2000 11 30
RASTER_ORDER: LEFT_RIGHT/TOP_BOTTOM
BAND_ORGANIZATION: SINGLE FILE
BAND_CONTENT: BLACK&WHITE
BAND_CONTENT: UNDEFINED
BAND_CONTENT: UNDEFINED
BITS_PER_PIXEL: 8
SAMPLES_AND_LINES: 5700 7680
HORIZONTAL_DATUM: NAD83
HORIZONTAL_COORDINATE_SYSTEM: UTM
COORDINATE_ZONE: 12
HORIZONTAL_UNITS: METERS
HORIZONTAL_RESOLUTION: 1.00000
SECONDARY_HORIZONTAL_DATUM: NAD27
XY_ORIGIN: 635430.00000 5082060.00000
SECONDARY_XY_ORIGIN: 635489.88800 5081849.81400
NATION: US
STATE: MT
NW_QUAD_CORNER_XY: 635810.75100 5081648.31800
NE_QUAD_CORNER_XY: 640661.08800 5081756.59400
SE_QUAD_CORNERY_XY: 640818.73700 5074812.70300
SW_QUAD_CORNER_XY: 635962.96000 5074704.42100
SECONDARY_NW_QUAD_XY: 635814.83700 5081430.47700
SECONDARY_NE_QUAD_XY: 640665.32000 5081538.75600
SECONDARY_SE_QUAD_XY: 640822.96800 5074594.91000
SECONDARY_SW_QUAD_XY: 635967.04500 5074486.62400
RMSE_XY: 1.24000
IMAGE_SOURCE: BLACK AND WHITE FILM
SOURCE_IMAGE_ID: NAPP 9153 18
SOURCE_IMAGE_DATE: 1997 08 28
SOURCE_DEM_DATE: 1956 00 00
AGENCY: WESTERN MAPPING CENTER (WMC)
PRODUCER: ANALYTICAL SURVEYS INC.
PRODUCTION_SYSTEM: ORBIT OR_RECTIFY V.5.2
COMPRESSION: UNDEFINED
STANDARD_VERSION: 1996 12
METADATA_DATE: 2000 12 01
DATA_FILE_SIZE: 43781700
BYTE_COUNT: 5700
