FILENAME: O4510915.SES.1123033.tif
QUADRANGLE_NAME: WHEAT BASIN SW
QUADRANT: SE
WEST_LONGITUDE: -109 11 15.00000
EAST_LONGITUDE: -109 7 30.00000
NORTH_LATITUDE: 45 48 45.00000
SOUTH_LATITUDE: 45 45 0.00000
PRODUCTION_DATE: 2000 11 30
RASTER_ORDER: LEFT_RIGHT/TOP_BOTTOM
BAND_ORGANIZATION: SINGLE FILE
BAND_CONTENT: BLACK&WHITE
BAND_CONTENT: UNDEFINED
BAND_CONTENT: UNDEFINED
BITS_PER_PIXEL: 8
SAMPLES_AND_LINES: 5700 7710
HORIZONTAL_DATUM: NAD83
HORIZONTAL_COORDINATE_SYSTEM: UTM
COORDINATE_ZONE: 12
HORIZONTAL_UNITS: METERS
HORIZONTAL_RESOLUTION: 1.00000
SECONDARY_HORIZONTAL_DATUM: NAD27
XY_ORIGIN: 640440.00000 5075250.00000
SECONDARY_XY_ORIGIN: 640499.80300 5075039.97700
NATION: US
STATE: MT
NW_QUAD_CORNER_XY: 640818.73700 5074812.70300
NE_QUAD_CORNER_XY: 645674.50900 5074924.78800
SE_QUAD_CORNERY_XY: 645837.42400 5067980.97300
SW_QUAD_CORNER_XY: 640976.21700 5067868.88200
SECONDARY_NW_QUAD_XY: 640822.96800 5074594.91000
SECONDARY_NE_QUAD_XY: 645678.88600 5074706.99800
SECONDARY_SE_QUAD_XY: 645841.80000 5067763.22700
SECONDARY_SW_QUAD_XY: 640980.44700 5067651.13300
RMSE_XY: 2.83000
IMAGE_SOURCE: BLACK AND WHITE FILM
SOURCE_IMAGE_ID: NAPP 9139 175
SOURCE_IMAGE_DATE: 1996 08 26
SOURCE_DEM_DATE: 1956 00 00
AGENCY: WESTERN MAPPING CENTER (WMC)
PRODUCER: ANALYTICAL SURVEYS INC.
PRODUCTION_SYSTEM: ORBIT OR_RECTIFY V.5.2
COMPRESSION: UNDEFINED
STANDARD_VERSION: 1996 12
METADATA_DATE: 2000 12 01
DATA_FILE_SIZE: 43952700
BYTE_COUNT: 5700
