FILENAME: O4510914.SES.1123029.tif
QUADRANGLE_NAME: LINDEMULDER HILL
QUADRANT: SE
WEST_LONGITUDE: -109 18 45.00000
EAST_LONGITUDE: -109 15 0.00000
NORTH_LATITUDE: 45 48 45.00000
SOUTH_LATITUDE: 45 45 0.00000
PRODUCTION_DATE: 2000 11 30
RASTER_ORDER: LEFT_RIGHT/TOP_BOTTOM
BAND_ORGANIZATION: SINGLE FILE
BAND_CONTENT: BLACK&WHITE
BAND_CONTENT: UNDEFINED
BAND_CONTENT: UNDEFINED
BITS_PER_PIXEL: 8
SAMPLES_AND_LINES: 5670 7680
HORIZONTAL_DATUM: NAD83
HORIZONTAL_COORDINATE_SYSTEM: UTM
COORDINATE_ZONE: 12
HORIZONTAL_UNITS: METERS
HORIZONTAL_RESOLUTION: 1.00000
SECONDARY_HORIZONTAL_DATUM: NAD27
XY_ORIGIN: 630750.00000 5075010.00000
SECONDARY_XY_ORIGIN: 630809.89700 5074800.00500
NATION: US
STATE: MT
NW_QUAD_CORNER_XY: 631107.17900 5074599.94000
NE_QUAD_CORNER_XY: 635962.96000 5074704.42100
SE_QUAD_CORNERY_XY: 636115.00700 5067760.59300
SW_QUAD_CORNER_XY: 631253.79200 5067656.10600
SECONDARY_NW_QUAD_XY: 631111.11800 5074382.14000
SECONDARY_NE_QUAD_XY: 635967.04500 5074486.62400
SECONDARY_SE_QUAD_XY: 636119.09100 5067542.84100
SECONDARY_SW_QUAD_XY: 631257.73000 5067438.35100
RMSE_XY: 0.95000
IMAGE_SOURCE: BLACK AND WHITE FILM
SOURCE_IMAGE_ID: NAPP 9153 77
SOURCE_IMAGE_DATE: 1997 08 28
SOURCE_DEM_DATE: 1956 00 00
AGENCY: WESTERN MAPPING CENTER (WMC)
PRODUCER: ANALYTICAL SURVEYS INC.
PRODUCTION_SYSTEM: ORBIT OR_RECTIFY V.5.2
COMPRESSION: UNDEFINED
STANDARD_VERSION: 1996 12
METADATA_DATE: 2000 12 01
DATA_FILE_SIZE: 43551270
BYTE_COUNT: 5670
