FILENAME: O4510914.SWS.1123030.tif
QUADRANGLE_NAME: LINDEMULDER HILL
QUADRANT: SW
WEST_LONGITUDE: -109 22 30.00000
EAST_LONGITUDE: -109 18 45.00000
NORTH_LATITUDE: 45 48 45.00000
SOUTH_LATITUDE: 45 45 0.00000
PRODUCTION_DATE: 2000 11 30
RASTER_ORDER: LEFT_RIGHT/TOP_BOTTOM
BAND_ORGANIZATION: SINGLE FILE
BAND_CONTENT: BLACK&WHITE
BAND_CONTENT: UNDEFINED
BAND_CONTENT: UNDEFINED
BITS_PER_PIXEL: 8
SAMPLES_AND_LINES: 5670 7680
HORIZONTAL_DATUM: NAD83
HORIZONTAL_COORDINATE_SYSTEM: UTM
COORDINATE_ZONE: 12
HORIZONTAL_UNITS: METERS
HORIZONTAL_RESOLUTION: 1.00000
SECONDARY_HORIZONTAL_DATUM: NAD27
XY_ORIGIN: 625890.00000 5074920.00000
SECONDARY_XY_ORIGIN: 625949.96200 5074709.94700
NATION: US
STATE: MT
NW_QUAD_CORNER_XY: 626251.39300 5074499.26000
NE_QUAD_CORNER_XY: 631107.17900 5074599.94000
SE_QUAD_CORNERY_XY: 631253.79200 5067656.10600
SW_QUAD_CORNER_XY: 626392.57300 5067555.42100
SECONDARY_NW_QUAD_XY: 626255.18600 5074281.45700
SECONDARY_NE_QUAD_XY: 631111.11800 5074382.14000
SECONDARY_SE_QUAD_XY: 631257.73000 5067438.35100
SECONDARY_SW_QUAD_XY: 626396.36600 5067337.66300
RMSE_XY: 1.62000
IMAGE_SOURCE: BLACK AND WHITE FILM
SOURCE_IMAGE_ID: NAPP 9149 28
SOURCE_IMAGE_DATE: 1996 09 02
SOURCE_DEM_DATE: 1956 00 00
AGENCY: WESTERN MAPPING CENTER (WMC)
PRODUCER: ANALYTICAL SURVEYS INC.
PRODUCTION_SYSTEM: ORBIT OR_RECTIFY V.5.2
COMPRESSION: UNDEFINED
STANDARD_VERSION: 1996 12
METADATA_DATE: 2000 12 01
DATA_FILE_SIZE: 43551270
BYTE_COUNT: 5670
