FILENAME: O4510911.NES.1115319.tif
QUADRANGLE_NAME: LONE INDIAN BUTTE
QUADRANT: NE
WEST_LONGITUDE: -109 41 15.00000
EAST_LONGITUDE: -109 37 30.00000
NORTH_LATITUDE: 45 52 30.00000
SOUTH_LATITUDE: 45 48 45.00000
PRODUCTION_DATE: 2000 11 21
RASTER_ORDER: LEFT_RIGHT/TOP_BOTTOM
BAND_ORGANIZATION: SINGLE FILE
BAND_CONTENT: BLACK&WHITE
BAND_CONTENT: UNDEFINED
BAND_CONTENT: UNDEFINED
BITS_PER_PIXEL: 8
SAMPLES_AND_LINES: 5640 7680
HORIZONTAL_DATUM: NAD83
HORIZONTAL_COORDINATE_SYSTEM: UTM
COORDINATE_ZONE: 12
HORIZONTAL_UNITS: METERS
HORIZONTAL_RESOLUTION: 1.00000
SECONDARY_HORIZONTAL_DATUM: NAD27
XY_ORIGIN: 601500.00000 5081400.00000
SECONDARY_XY_ORIGIN: 601560.16100 5081189.49900
NATION: US
STATE: MT
NW_QUAD_CORNER_XY: 601858.26500 5080996.81200
NE_QUAD_CORNER_XY: 606708.63200 5081078.48300
SE_QUAD_CORNERY_XY: 606828.21200 5074134.55100
SW_QUAD_CORNER_XY: 601972.40700 5074052.87500
SECONDARY_NW_QUAD_XY: 601861.33000 5080778.95200
SECONDARY_NE_QUAD_XY: 606711.84300 5080860.62500
SECONDARY_SE_QUAD_XY: 606831.42100 5073916.73700
SECONDARY_SW_QUAD_XY: 601975.47100 5073835.05900
RMSE_XY: 2.39000
IMAGE_SOURCE: BLACK AND WHITE FILM
SOURCE_IMAGE_ID: NAPP 9160 133
SOURCE_IMAGE_DATE: 1997 09 23
SOURCE_IMAGE_ID: NAPP 9150 84
SOURCE_IMAGE_DATE: 1996 09 11
SOURCE_IMAGE_ID: NAPP 9160 135
SOURCE_IMAGE_DATE: 1997 09 23
SOURCE_DEM_DATE: 1981 00 00
AGENCY: WESTERN MAPPING CENTER (WMC)
PRODUCER: ANALYTICAL SURVEYS INC.
PRODUCTION_SYSTEM: ORBIT OR_RECTIFY V.5.2
COMPRESSION: UNDEFINED
STANDARD_VERSION: 1996 12
METADATA_DATE: 2000 11 30
DATA_FILE_SIZE: 43320840
BYTE_COUNT: 5640
