FILENAME: O4510909.SWS.1115268.tif
QUADRANGLE_NAME: BIG TIMBER
QUADRANT: SW
WEST_LONGITUDE: -110 0 0.00000
EAST_LONGITUDE: -109 56 15.00000
NORTH_LATITUDE: 45 48 45.00000
SOUTH_LATITUDE: 45 45 0.00000
PRODUCTION_DATE: 2000 11 16
RASTER_ORDER: LEFT_RIGHT/TOP_BOTTOM
BAND_ORGANIZATION: SINGLE FILE
BAND_CONTENT: BLACK&WHITE
BAND_CONTENT: UNDEFINED
BAND_CONTENT: UNDEFINED
BITS_PER_PIXEL: 8
SAMPLES_AND_LINES: 5640 7650
HORIZONTAL_DATUM: NAD83
HORIZONTAL_COORDINATE_SYSTEM: UTM
COORDINATE_ZONE: 12
HORIZONTAL_UNITS: METERS
HORIZONTAL_RESOLUTION: 1.00000
SECONDARY_HORIZONTAL_DATUM: NAD27
XY_ORIGIN: 577320.00000 5074080.00000
SECONDARY_XY_ORIGIN: 577379.97800 5073869.70600
NATION: US
STATE: MT
NW_QUAD_CORNER_XY: 577693.33900 5073701.49400
NE_QUAD_CORNER_XY: 582549.15800 5073764.17100
SE_QUAD_CORNERY_XY: 582641.45500 5066820.29000
SW_QUAD_CORNER_XY: 577780.20600 5066757.61000
SECONDARY_NW_QUAD_XY: 577695.67400 5073483.66700
SECONDARY_NE_QUAD_XY: 582551.63900 5073546.34600
SECONDARY_SE_QUAD_XY: 582643.93500 5066602.51000
SECONDARY_SW_QUAD_XY: 577782.53900 5066539.82800
RMSE_XY: 1.53000
IMAGE_SOURCE: BLACK AND WHITE FILM
SOURCE_IMAGE_ID: NAPP 9154 151
SOURCE_IMAGE_DATE: 1997 08 28
SOURCE_IMAGE_ID: NAPP 9154 149
SOURCE_IMAGE_DATE: 1997 08 28
SOURCE_DEM_DATE: 1981 00 00
AGENCY: WESTERN MAPPING CENTER (WMC)
PRODUCER: ANALYTICAL SURVEYS INC.
PRODUCTION_SYSTEM: ORBIT OR_RECTIFY V.5.2
COMPRESSION: UNDEFINED
STANDARD_VERSION: 1996 12
METADATA_DATE: 2000 11 18
DATA_FILE_SIZE: 43151640
BYTE_COUNT: 5640
