FILENAME: O4510908.NWS.1123024.tif
QUADRANGLE_NAME: WHEAT BASIN
QUADRANT: NW
WEST_LONGITUDE: -109 7 30.00000
EAST_LONGITUDE: -109 3 45.00000
NORTH_LATITUDE: 46 0 0.00000
SOUTH_LATITUDE: 45 56 15.00000
PRODUCTION_DATE: 2000 11 29
RASTER_ORDER: LEFT_RIGHT/TOP_BOTTOM
BAND_ORGANIZATION: SINGLE FILE
BAND_CONTENT: BLACK&WHITE
BAND_CONTENT: UNDEFINED
BAND_CONTENT: UNDEFINED
BITS_PER_PIXEL: 8
SAMPLES_AND_LINES: 5700 7710
HORIZONTAL_DATUM: NAD83
HORIZONTAL_COORDINATE_SYSTEM: UTM
COORDINATE_ZONE: 12
HORIZONTAL_UNITS: METERS
HORIZONTAL_RESOLUTION: 1.00000
SECONDARY_HORIZONTAL_DATUM: NAD27
XY_ORIGIN: 644820.00000 5096190.00000
SECONDARY_XY_ORIGIN: 644879.93000 5095979.21200
NATION: US
STATE: MT
NW_QUAD_CORNER_XY: 645184.72000 5095756.64200
NE_QUAD_CORNER_XY: 650024.15000 5095872.50600
SE_QUAD_CORNERY_XY: 650193.03900 5088928.49400
SW_QUAD_CORNER_XY: 645348.15700 5088812.62300
SECONDARY_NW_QUAD_XY: 645189.10000 5095538.72200
SECONDARY_NE_QUAD_XY: 650028.67600 5095654.58900
SECONDARY_SE_QUAD_XY: 650197.56400 5088710.62000
SECONDARY_SW_QUAD_XY: 645352.53700 5088594.74500
RMSE_XY: 1.13000
IMAGE_SOURCE: BLACK AND WHITE FILM
SOURCE_IMAGE_ID: NAPP 9129 146
SOURCE_IMAGE_DATE: 1996 07 27
SOURCE_DEM_DATE: 1956 00 00
AGENCY: WESTERN MAPPING CENTER (WMC)
PRODUCER: ANALYTICAL SURVEYS INC.
PRODUCTION_SYSTEM: ORBIT OR_RECTIFY V.5.2
COMPRESSION: UNDEFINED
STANDARD_VERSION: 1996 12
METADATA_DATE: 2000 11 30
DATA_FILE_SIZE: 43952700
BYTE_COUNT: 5700
