FILENAME: O4510907.SES.1123021.tif
QUADRANGLE_NAME: BATTLE BUTTE
QUADRANT: SE
WEST_LONGITUDE: -109 11 15.00000
EAST_LONGITUDE: -109 7 30.00000
NORTH_LATITUDE: 45 56 15.00000
SOUTH_LATITUDE: 45 52 30.00000
PRODUCTION_DATE: 2000 11 29
RASTER_ORDER: LEFT_RIGHT/TOP_BOTTOM
BAND_ORGANIZATION: SINGLE FILE
BAND_CONTENT: BLACK&WHITE
BAND_CONTENT: UNDEFINED
BAND_CONTENT: UNDEFINED
BITS_PER_PIXEL: 8
SAMPLES_AND_LINES: 5700 7710
HORIZONTAL_DATUM: NAD83
HORIZONTAL_COORDINATE_SYSTEM: UTM
COORDINATE_ZONE: 12
HORIZONTAL_UNITS: METERS
HORIZONTAL_RESOLUTION: 1.00000
SECONDARY_HORIZONTAL_DATUM: NAD27
XY_ORIGIN: 640140.00000 5089140.00000
SECONDARY_XY_ORIGIN: 640199.91700 5088929.49000
NATION: US
STATE: MT
NW_QUAD_CORNER_XY: 640503.27100 5088700.55300
NE_QUAD_CORNER_XY: 645348.15700 5088812.62300
SE_QUAD_CORNERY_XY: 645511.42000 5081868.67100
SW_QUAD_CORNER_XY: 640661.08800 5081756.59400
SECONDARY_NW_QUAD_XY: 640507.50400 5088482.67200
SECONDARY_NE_QUAD_XY: 645352.53700 5088594.74500
SECONDARY_SE_QUAD_XY: 645515.79900 5081650.83700
SECONDARY_SW_QUAD_XY: 640665.32000 5081538.75600
RMSE_XY: 0.71000
IMAGE_SOURCE: BLACK AND WHITE FILM
SOURCE_IMAGE_ID: NAPP 9130 78
SOURCE_IMAGE_DATE: 1996 07 27
SOURCE_DEM_DATE: 1956 00 00
AGENCY: WESTERN MAPPING CENTER (WMC)
PRODUCER: ANALYTICAL SURVEYS INC.
PRODUCTION_SYSTEM: ORBIT OR_RECTIFY V.5.2
COMPRESSION: UNDEFINED
STANDARD_VERSION: 1996 12
METADATA_DATE: 2000 11 30
DATA_FILE_SIZE: 43952700
BYTE_COUNT: 5700
