FILENAME: O4510906.SES.1123017.tif
QUADRANGLE_NAME: RAPELJE
QUADRANT: SE
WEST_LONGITUDE: -109 18 45.00000
EAST_LONGITUDE: -109 15 0.00000
NORTH_LATITUDE: 45 56 15.00000
SOUTH_LATITUDE: 45 52 30.00000
PRODUCTION_DATE: 2000 11 29
RASTER_ORDER: LEFT_RIGHT/TOP_BOTTOM
BAND_ORGANIZATION: SINGLE FILE
BAND_CONTENT: BLACK&WHITE
BAND_CONTENT: UNDEFINED
BAND_CONTENT: UNDEFINED
BITS_PER_PIXEL: 8
SAMPLES_AND_LINES: 5670 7680
HORIZONTAL_DATUM: NAD83
HORIZONTAL_COORDINATE_SYSTEM: UTM
COORDINATE_ZONE: 12
HORIZONTAL_UNITS: METERS
HORIZONTAL_RESOLUTION: 1.00000
SECONDARY_HORIZONTAL_DATUM: NAD27
XY_ORIGIN: 630450.00000 5088900.00000
SECONDARY_XY_ORIGIN: 630509.99500 5088689.47900
NATION: US
STATE: MT
NW_QUAD_CORNER_XY: 630813.48100 5088487.81600
NE_QUAD_CORNER_XY: 635658.37800 5088592.28400
SE_QUAD_CORNERY_XY: 635810.75100 5081648.31800
SW_QUAD_CORNER_XY: 630960.40800 5081543.84300
SECONDARY_NW_QUAD_XY: 630817.42200 5088269.92900
SECONDARY_NE_QUAD_XY: 635662.46600 5088374.40000
SECONDARY_SE_QUAD_XY: 635814.83700 5081430.47700
SECONDARY_SW_QUAD_XY: 630964.34900 5081325.99900
RMSE_XY: 1.69000
IMAGE_SOURCE: BLACK AND WHITE FILM
SOURCE_IMAGE_ID: NAPP 9153 73
SOURCE_IMAGE_DATE: 1997 08 28
SOURCE_DEM_DATE: 1956 00 00
AGENCY: WESTERN MAPPING CENTER (WMC)
PRODUCER: ANALYTICAL SURVEYS INC.
PRODUCTION_SYSTEM: ORBIT OR_RECTIFY V.5.2
COMPRESSION: UNDEFINED
STANDARD_VERSION: 1996 12
METADATA_DATE: 2000 11 30
DATA_FILE_SIZE: 43551270
BYTE_COUNT: 5670
