FILENAME: O4510904.SES.1115337.tif
QUADRANGLE_NAME: STEPHENS HILL NE
QUADRANT: SE
WEST_LONGITUDE: -109 33 45.00000
EAST_LONGITUDE: -109 30 0.00000
NORTH_LATITUDE: 45 56 15.00000
SOUTH_LATITUDE: 45 52 30.00000
PRODUCTION_DATE: 2000 11 21
RASTER_ORDER: LEFT_RIGHT/TOP_BOTTOM
BAND_ORGANIZATION: SINGLE FILE
BAND_CONTENT: BLACK&WHITE
BAND_CONTENT: UNDEFINED
BAND_CONTENT: UNDEFINED
BITS_PER_PIXEL: 8
SAMPLES_AND_LINES: 5640 7680
HORIZONTAL_DATUM: NAD83
HORIZONTAL_COORDINATE_SYSTEM: UTM
COORDINATE_ZONE: 12
HORIZONTAL_UNITS: METERS
HORIZONTAL_RESOLUTION: 1.00000
SECONDARY_HORIZONTAL_DATUM: NAD27
XY_ORIGIN: 611070.00000 5088510.00000
SECONDARY_XY_ORIGIN: 611130.10000 5088299.27700
NATION: US
STATE: MT
NW_QUAD_CORNER_XY: 611433.84500 5088107.95200
NE_QUAD_CORNER_XY: 616278.76100 5088197.21800
SE_QUAD_CORNERY_XY: 616409.35500 5081253.22500
SW_QUAD_CORNER_XY: 611558.99500 5081163.95400
SECONDARY_NW_QUAD_XY: 611437.20200 5087890.05400
SECONDARY_NE_QUAD_XY: 616282.26400 5087979.32200
SECONDARY_SE_QUAD_XY: 616412.85700 5081035.37300
SECONDARY_SW_QUAD_XY: 611562.35200 5080946.09900
RMSE_XY: 1.36000
IMAGE_SOURCE: BLACK AND WHITE FILM
SOURCE_IMAGE_ID: NAPP 9154 27
SOURCE_IMAGE_DATE: 1997 08 28
SOURCE_DEM_DATE: 1957 00 00
AGENCY: WESTERN MAPPING CENTER (WMC)
PRODUCER: ANALYTICAL SURVEYS INC.
PRODUCTION_SYSTEM: ORBIT OR_RECTIFY V.5.2
COMPRESSION: UNDEFINED
STANDARD_VERSION: 1996 12
METADATA_DATE: 2000 11 28
DATA_FILE_SIZE: 43320840
BYTE_COUNT: 5640
