FILENAME: O4510903.NWS.1115332.tif
QUADRANGLE_NAME: SOURDOUGH SCHOOL
QUADRANT: NW
WEST_LONGITUDE: -109 45 0.00000
EAST_LONGITUDE: -109 41 15.00000
NORTH_LATITUDE: 46 0 0.00000
SOUTH_LATITUDE: 45 56 15.00000
PRODUCTION_DATE: 2000 11 21
RASTER_ORDER: LEFT_RIGHT/TOP_BOTTOM
BAND_ORGANIZATION: SINGLE FILE
BAND_CONTENT: BLACK&WHITE
BAND_CONTENT: UNDEFINED
BAND_CONTENT: UNDEFINED
BITS_PER_PIXEL: 8
SAMPLES_AND_LINES: 5640 7650
HORIZONTAL_DATUM: NAD83
HORIZONTAL_COORDINATE_SYSTEM: UTM
COORDINATE_ZONE: 12
HORIZONTAL_UNITS: METERS
HORIZONTAL_RESOLUTION: 1.00000
SECONDARY_HORIZONTAL_DATUM: NAD27
XY_ORIGIN: 596430.00000 5095200.00000
SECONDARY_XY_ORIGIN: 596490.02800 5094988.83600
NATION: US
STATE: MT
NW_QUAD_CORNER_XY: 596790.13600 5094807.04200
NE_QUAD_CORNER_XY: 601629.61500 5094884.90300
SE_QUAD_CORNERY_XY: 601744.00100 5087940.82100
SW_QUAD_CORNER_XY: 596899.07300 5087862.95500
SECONDARY_NW_QUAD_XY: 596793.05600 5094589.09400
SECONDARY_NE_QUAD_XY: 601632.68100 5094666.95700
SECONDARY_SE_QUAD_XY: 601747.06600 5087722.91800
SECONDARY_SW_QUAD_XY: 596901.99200 5087645.04900
RMSE_XY: 2.15000
IMAGE_SOURCE: BLACK AND WHITE FILM
SOURCE_IMAGE_ID: NAPP 9154 62
SOURCE_IMAGE_DATE: 1997 08 28
SOURCE_IMAGE_ID: NAPP 9150 86
SOURCE_IMAGE_DATE: 1996 09 11
SOURCE_DEM_DATE: 1981 00 00
AGENCY: WESTERN MAPPING CENTER (WMC)
PRODUCER: ANALYTICAL SURVEYS INC.
PRODUCTION_SYSTEM: ORBIT OR_RECTIFY V.5.2
COMPRESSION: UNDEFINED
STANDARD_VERSION: 1996 12
METADATA_DATE: 2000 11 28
DATA_FILE_SIZE: 43151640
BYTE_COUNT: 5640
