FILENAME: O4510903.SES.1115333.tif
QUADRANGLE_NAME: SOURDOUGH SCHOOL
QUADRANT: SE
WEST_LONGITUDE: -109 41 15.00000
EAST_LONGITUDE: -109 37 30.00000
NORTH_LATITUDE: 45 56 15.00000
SOUTH_LATITUDE: 45 52 30.00000
PRODUCTION_DATE: 2000 11 21
RASTER_ORDER: LEFT_RIGHT/TOP_BOTTOM
BAND_ORGANIZATION: SINGLE FILE
BAND_CONTENT: BLACK&WHITE
BAND_CONTENT: UNDEFINED
BAND_CONTENT: UNDEFINED
BITS_PER_PIXEL: 8
SAMPLES_AND_LINES: 5640 7650
HORIZONTAL_DATUM: NAD83
HORIZONTAL_COORDINATE_SYSTEM: UTM
COORDINATE_ZONE: 12
HORIZONTAL_UNITS: METERS
HORIZONTAL_RESOLUTION: 1.00000
SECONDARY_HORIZONTAL_DATUM: NAD27
XY_ORIGIN: 601380.00000 5088330.00000
SECONDARY_XY_ORIGIN: 601440.10400 5088119.19500
NATION: US
STATE: MT
NW_QUAD_CORNER_XY: 601744.00100 5087940.82100
NE_QUAD_CORNER_XY: 606588.92500 5088022.48700
SE_QUAD_CORNERY_XY: 606708.63200 5081078.48300
SW_QUAD_CORNER_XY: 601858.26500 5080996.81200
SECONDARY_NW_QUAD_XY: 601747.06600 5087722.91800
SECONDARY_NE_QUAD_XY: 606592.13600 5087804.58600
SECONDARY_SE_QUAD_XY: 606711.84300 5080860.62500
SECONDARY_SW_QUAD_XY: 601861.33000 5080778.95200
RMSE_XY: 0.94000
IMAGE_SOURCE: BLACK AND WHITE FILM
SOURCE_IMAGE_ID: NAPP 9150 84
SOURCE_IMAGE_DATE: 1996 09 11
SOURCE_IMAGE_ID: NAPP 9150 86
SOURCE_IMAGE_DATE: 1996 09 11
SOURCE_DEM_DATE: 1981 00 00
AGENCY: WESTERN MAPPING CENTER (WMC)
PRODUCER: ANALYTICAL SURVEYS INC.
PRODUCTION_SYSTEM: ORBIT OR_RECTIFY V.5.2
COMPRESSION: UNDEFINED
STANDARD_VERSION: 1996 12
METADATA_DATE: 2000 11 28
DATA_FILE_SIZE: 43151640
BYTE_COUNT: 5640
