FILENAME: O4510903.SWS.1115334.tif
QUADRANGLE_NAME: SOURDOUGH SCHOOL
QUADRANT: SW
WEST_LONGITUDE: -109 45 0.00000
EAST_LONGITUDE: -109 41 15.00000
NORTH_LATITUDE: 45 56 15.00000
SOUTH_LATITUDE: 45 52 30.00000
PRODUCTION_DATE: 2000 11 21
RASTER_ORDER: LEFT_RIGHT/TOP_BOTTOM
BAND_ORGANIZATION: SINGLE FILE
BAND_CONTENT: BLACK&WHITE
BAND_CONTENT: UNDEFINED
BAND_CONTENT: UNDEFINED
BITS_PER_PIXEL: 8
SAMPLES_AND_LINES: 5640 7680
HORIZONTAL_DATUM: NAD83
HORIZONTAL_COORDINATE_SYSTEM: UTM
COORDINATE_ZONE: 12
HORIZONTAL_UNITS: METERS
HORIZONTAL_RESOLUTION: 1.00000
SECONDARY_HORIZONTAL_DATUM: NAD27
XY_ORIGIN: 596520.00000 5088270.00000
SECONDARY_XY_ORIGIN: 596580.10600 5088059.15300
NATION: US
STATE: MT
NW_QUAD_CORNER_XY: 596899.07300 5087862.95500
NE_QUAD_CORNER_XY: 601744.00100 5087940.82100
SE_QUAD_CORNERY_XY: 601858.26500 5080996.81200
SW_QUAD_CORNER_XY: 597007.89400 5080918.94100
SECONDARY_NW_QUAD_XY: 596901.99200 5087645.04900
SECONDARY_NE_QUAD_XY: 601747.06600 5087722.91800
SECONDARY_SE_QUAD_XY: 601861.33000 5080778.95200
SECONDARY_SW_QUAD_XY: 597010.81300 5080701.07800
RMSE_XY: 1.92000
IMAGE_SOURCE: BLACK AND WHITE FILM
SOURCE_IMAGE_ID: NAPP 9154 60
SOURCE_IMAGE_DATE: 1997 08 28
SOURCE_IMAGE_ID: NAPP 9154 62
SOURCE_IMAGE_DATE: 1997 08 28
SOURCE_IMAGE_ID: NAPP 9160 133
SOURCE_IMAGE_DATE: 1997 09 23
SOURCE_DEM_DATE: 1981 00 00
AGENCY: WESTERN MAPPING CENTER (WMC)
PRODUCER: ANALYTICAL SURVEYS INC.
PRODUCTION_SYSTEM: ORBIT OR_RECTIFY V.5.2
COMPRESSION: UNDEFINED
STANDARD_VERSION: 1996 12
METADATA_DATE: 2000 11 29
DATA_FILE_SIZE: 43320840
BYTE_COUNT: 5640
