FILENAME: O4510902.SES.1115259.tif
QUADRANGLE_NAME: RYAN CREEK
QUADRANT: SE
WEST_LONGITUDE: -109 48 45.00000
EAST_LONGITUDE: -109 45 0.00000
NORTH_LATITUDE: 45 56 15.00000
SOUTH_LATITUDE: 45 52 30.00000
PRODUCTION_DATE: 2000 11 14
RASTER_ORDER: LEFT_RIGHT/TOP_BOTTOM
BAND_ORGANIZATION: SINGLE FILE
BAND_CONTENT: BLACK&WHITE
BAND_CONTENT: UNDEFINED
BAND_CONTENT: UNDEFINED
BITS_PER_PIXEL: 8
SAMPLES_AND_LINES: 5640 7650
HORIZONTAL_DATUM: NAD83
HORIZONTAL_COORDINATE_SYSTEM: UTM
COORDINATE_ZONE: 12
HORIZONTAL_UNITS: METERS
HORIZONTAL_RESOLUTION: 1.00000
SECONDARY_HORIZONTAL_DATUM: NAD27
XY_ORIGIN: 591690.00000 5088180.00000
SECONDARY_XY_ORIGIN: 591750.04400 5087969.14900
NATION: US
STATE: MT
NW_QUAD_CORNER_XY: 592054.14200 5087788.88900
NE_QUAD_CORNER_XY: 596899.07300 5087862.95500
SE_QUAD_CORNERY_XY: 597007.89400 5080918.94100
SW_QUAD_CORNER_XY: 592157.52000 5080844.87000
SECONDARY_NW_QUAD_XY: 592056.91500 5087570.98100
SECONDARY_NE_QUAD_XY: 596901.99200 5087645.04900
SECONDARY_SE_QUAD_XY: 597010.81300 5080701.07800
SECONDARY_SW_QUAD_XY: 592160.29300 5080627.00500
RMSE_XY: 1.29000
IMAGE_SOURCE: BLACK AND WHITE FILM
SOURCE_IMAGE_ID: NAPP 9150 167
SOURCE_IMAGE_DATE: 1996 09 11
SOURCE_DEM_DATE: 1981 00 00
AGENCY: WESTERN MAPPING CENTER (WMC)
PRODUCER: ANALYTICAL SURVEYS INC.
PRODUCTION_SYSTEM: ORBIT OR_RECTIFY V.5.2
COMPRESSION: UNDEFINED
STANDARD_VERSION: 1996 12
METADATA_DATE: 2000 11 16
DATA_FILE_SIZE: 43151640
BYTE_COUNT: 5640
