FILENAME: O4510901.NWS.1115254.tif
QUADRANGLE_NAME: OTTER CREEK SCHOOL
QUADRANT: NW
WEST_LONGITUDE: -110 0 0.00000
EAST_LONGITUDE: -109 56 15.00000
NORTH_LATITUDE: 46 0 0.00000
SOUTH_LATITUDE: 45 56 15.00000
PRODUCTION_DATE: 2000 11 14
RASTER_ORDER: LEFT_RIGHT/TOP_BOTTOM
BAND_ORGANIZATION: SINGLE FILE
BAND_CONTENT: BLACK&WHITE
BAND_CONTENT: UNDEFINED
BAND_CONTENT: UNDEFINED
BITS_PER_PIXEL: 8
SAMPLES_AND_LINES: 5640 7620
HORIZONTAL_DATUM: NAD83
HORIZONTAL_COORDINATE_SYSTEM: UTM
COORDINATE_ZONE: 12
HORIZONTAL_UNITS: METERS
HORIZONTAL_RESOLUTION: 1.00000
SECONDARY_HORIZONTAL_DATUM: NAD27
XY_ORIGIN: 577050.00000 5094900.00000
SECONDARY_XY_ORIGIN: 577109.85300 5094688.87700
NATION: US
STATE: MT
NW_QUAD_CORNER_XY: 577432.18300 5094533.59100
NE_QUAD_CORNER_XY: 582271.67600 5094596.25600
SE_QUAD_CORNERY_XY: 582364.26900 5087652.15400
SW_QUAD_CORNER_XY: 577519.32800 5087589.48500
SECONDARY_NW_QUAD_XY: 577434.51800 5094315.63400
SECONDARY_NE_QUAD_XY: 582274.15800 5094378.30100
SECONDARY_SE_QUAD_XY: 582366.75000 5087434.24100
SECONDARY_SW_QUAD_XY: 577521.66300 5087371.57000
RMSE_XY: 2.88000
IMAGE_SOURCE: BLACK AND WHITE FILM
SOURCE_IMAGE_ID: NAPP 9154 145
SOURCE_IMAGE_DATE: 1997 08 28
SOURCE_IMAGE_ID: NAPP 9150 280
SOURCE_IMAGE_DATE: 1996 09 11
SOURCE_DEM_DATE: 1981 00 00
AGENCY: WESTERN MAPPING CENTER (WMC)
PRODUCER: ANALYTICAL SURVEYS INC.
PRODUCTION_SYSTEM: ORBIT OR_RECTIFY V.5.2
COMPRESSION: UNDEFINED
STANDARD_VERSION: 1996 12
METADATA_DATE: 2000 11 16
DATA_FILE_SIZE: 42982440
BYTE_COUNT: 5640
