FILENAME: O4511064.NES.831382.tif
QUADRANGLE_NAME: CUTOFF MOUNTAIN
QUADRANT: NE
WEST_LONGITUDE: -110 3 45.00000
EAST_LONGITUDE: -110 0 0.00000
NORTH_LATITUDE: 45 7 30.00000
SOUTH_LATITUDE: 45 3 45.00000
PRODUCTION_DATE: 1998 1 14
RASTER_ORDER: LEFT_RIGHT/TOP_BOTTOM
BAND_ORGANIZATION: SINGLE FILE
BAND_CONTENT: BLACK&WHITE
BAND_CONTENT: UNDEFINED
BAND_CONTENT: UNDEFINED
BITS_PER_PIXEL: 8
SAMPLES_AND_LINES: 5662 7612
HORIZONTAL_DATUM: NAD83
HORIZONTAL_COORDINATE_SYSTEM: UTM
COORDINATE_ZONE: 12
HORIZONTAL_UNITS: METERS
HORIZONTAL_RESOLUTION: 1.00000
SECONDARY_HORIZONTAL_DATUM: NAD27
XY_ORIGIN: 573369.00000 4997623.00000
SECONDARY_XY_ORIGIN: 573429.43700 4997413.15200
NATION: US
NATION: "SCIENCE
STATE: MT
NW_QUAD_CORNER_XY: 573728.49400 4997263.93600
NE_QUAD_CORNER_XY: 578643.72600 4997322.83500
SE_QUAD_CORNERY_XY: 578729.56200 4990379.76500
SW_QUAD_CORNER_XY: 573808.96400 4990320.86600
SECONDARY_NW_QUAD_XY: 573730.67600 4997046.64900
SECONDARY_NE_QUAD_XY: 578646.05300 4997105.54900
SECONDARY_SE_QUAD_XY: 578731.88800 4990162.53300
SECONDARY_SW_QUAD_XY: 573811.14600 4990103.63200
RMSE_XY: 3.30000
IMAGE_SOURCE: BLACK AND WHITE FILM
SOURCE_IMAGE_ID: NAPP 7829 105
SOURCE_IMAGE_DATE: 1994 09 05
SOURCE_IMAGE_ID: NAPP 7829 106
SOURCE_IMAGE_DATE: 1994 09 05
SOURCE_IMAGE_ID: NAPP 7829 104
SOURCE_IMAGE_DATE: 1994 09 05
SOURCE_IMAGE_ID: NAPP 3857 159
SOURCE_IMAGE_DATE: 1991 08 30
SOURCE_IMAGE_ID: NAPP 7829 102
SOURCE_IMAGE_DATE: 1994 09 05
SOURCE_DEM_DATE: 1997 01 01
AGENCY: WESTERN MAPPING CENTER (WMC)
PRODUCER: UNDEFINED
PRODUCTION_SYSTEM: GIS/MAGIC
COMPRESSION: UNDEFINED
STANDARD_VERSION: 1996 12
METADATA_DATE: 1998 01 15
DATA_FILE_SIZE: 43104806
BYTE_COUNT: 5662
