FILENAME: O4511063.NES.831261.tif
QUADRANGLE_NAME: ROUNDHEAD BUTTE
QUADRANT: NE
WEST_LONGITUDE: -110 11 15.00000
EAST_LONGITUDE: -110 7 30.00000
NORTH_LATITUDE: 45 7 30.00000
SOUTH_LATITUDE: 45 3 45.00000
PRODUCTION_DATE: 1998 1 14
RASTER_ORDER: LEFT_RIGHT/TOP_BOTTOM
BAND_ORGANIZATION: SINGLE FILE
BAND_CONTENT: BLACK&WHITE
BAND_CONTENT: UNDEFINED
BAND_CONTENT: UNDEFINED
BITS_PER_PIXEL: 8
SAMPLES_AND_LINES: 5652 7604
HORIZONTAL_DATUM: NAD83
HORIZONTAL_COORDINATE_SYSTEM: UTM
COORDINATE_ZONE: 12
HORIZONTAL_UNITS: METERS
HORIZONTAL_RESOLUTION: 1.00000
SECONDARY_HORIZONTAL_DATUM: NAD27
XY_ORIGIN: 563538.00000 4997509.00000
SECONDARY_XY_ORIGIN: 563598.47900 4997299.13900
NATION: US
NATION: "SCIENCE
STATE: MT
NW_QUAD_CORNER_XY: 563898.03000 4997157.54100
NE_QUAD_CORNER_XY: 568813.26200 4997208.83800
SE_QUAD_CORNERY_XY: 568888.36700 4990265.76700
SW_QUAD_CORNER_XY: 563967.76900 4990214.47000
SECONDARY_NW_QUAD_XY: 563899.92100 4996940.25000
SECONDARY_NE_QUAD_XY: 568815.29900 4996991.54900
SECONDARY_SE_QUAD_XY: 568890.40300 4990048.53200
SECONDARY_SW_QUAD_XY: 563969.66000 4989997.23300
RMSE_XY: 2.50000
IMAGE_SOURCE: BLACK AND WHITE FILM
SOURCE_IMAGE_ID: NAPP 3857 208
SOURCE_IMAGE_DATE: 1991 08 30
SOURCE_IMAGE_ID: NAPP 7833 021
SOURCE_IMAGE_DATE: 1994 09 22
SOURCE_DEM_DATE: 1997 01 01
AGENCY: WESTERN MAPPING CENTER (WMC)
PRODUCER: UNDEFINED
PRODUCTION_SYSTEM: GIS/MAGIC
COMPRESSION: UNDEFINED
STANDARD_VERSION: 1996 12
METADATA_DATE: 1998 01 15
DATA_FILE_SIZE: 42983460
BYTE_COUNT: 5652
