FILENAME: O4511062.SES.829933.tif
QUADRANGLE_NAME: HUMMINGBIRD PEAK
QUADRANT: SE
WEST_LONGITUDE: -110 18 45.00000
EAST_LONGITUDE: -110 15 0.00000
NORTH_LATITUDE: 45 3 45.00000
SOUTH_LATITUDE: 45 0 0.00000
PRODUCTION_DATE: 1997 12 4
RASTER_ORDER: LEFT_RIGHT/TOP_BOTTOM
BAND_ORGANIZATION: SINGLE FILE
BAND_CONTENT: BLACK&WHITE
BAND_CONTENT: UNDEFINED
BAND_CONTENT: UNDEFINED
BITS_PER_PIXEL: 8
SAMPLES_AND_LINES: 5647 7597
HORIZONTAL_DATUM: NAD83
HORIZONTAL_COORDINATE_SYSTEM: UTM
COORDINATE_ZONE: 12
HORIZONTAL_UNITS: METERS
HORIZONTAL_RESOLUTION: 1.00000
SECONDARY_HORIZONTAL_DATUM: NAD27
XY_ORIGIN: 553766.00000 4990467.00000
SECONDARY_XY_ORIGIN: 553826.64000 4990257.16000
NATION: US
NATION: "SCIENCE
STATE: MT
NW_QUAD_CORNER_XY: 554126.57400 4990123.27500
NE_QUAD_CORNER_XY: 559047.17200 4990166.97200
SE_QUAD_CORNERY_XY: 559111.47500 4983223.97600
SW_QUAD_CORNER_XY: 554185.51800 4983180.27900
SECONDARY_NW_QUAD_XY: 554128.17400 4989906.03600
SECONDARY_NE_QUAD_XY: 559048.91700 4989949.73400
SECONDARY_SE_QUAD_XY: 559113.22000 4983006.79300
SECONDARY_SW_QUAD_XY: 554187.11800 4982963.09500
RMSE_XY: 3.10000
IMAGE_SOURCE: BLACK AND WHITE FILM
SOURCE_IMAGE_ID: NAPP 7829 154
SOURCE_IMAGE_DATE: 1994 09 05
SOURCE_IMAGE_ID: NAPP 7829 155
SOURCE_IMAGE_DATE: 1994 09 05
SOURCE_DEM_DATE: 1997 01 01
AGENCY: WESTERN MAPPING CENTER (WMC)
PRODUCER: UNDEFINED
PRODUCTION_SYSTEM: GIS/MAGIC
COMPRESSION: UNDEFINED
STANDARD_VERSION: 1996 12
METADATA_DATE: 1998 01 21
DATA_FILE_SIZE: 42905906
BYTE_COUNT: 5647
