FILENAME: O4511061.SWS.829979.tif
QUADRANGLE_NAME: SPECIMEN CREEK
QUADRANT: SW
WEST_LONGITUDE: -110 30 0.00000
EAST_LONGITUDE: -110 26 15.00000
NORTH_LATITUDE: 45 3 45.00000
SOUTH_LATITUDE: 45 0 0.00000
PRODUCTION_DATE: 1997 12 4
RASTER_ORDER: LEFT_RIGHT/TOP_BOTTOM
BAND_ORGANIZATION: SINGLE FILE
BAND_CONTENT: BLACK&WHITE
BAND_CONTENT: UNDEFINED
BAND_CONTENT: UNDEFINED
BITS_PER_PIXEL: 8
SAMPLES_AND_LINES: 5631 7586
HORIZONTAL_DATUM: NAD83
HORIZONTAL_COORDINATE_SYSTEM: UTM
COORDINATE_ZONE: 12
HORIZONTAL_UNITS: METERS
HORIZONTAL_RESOLUTION: 1.00000
SECONDARY_HORIZONTAL_DATUM: NAD27
XY_ORIGIN: 539004.00000 4990348.00000
SECONDARY_XY_ORIGIN: 539064.80500 4990138.09800
NATION: US
NATION: "SCIENCE
STATE: MT
NW_QUAD_CORNER_XY: 539364.78200 4990014.98300
NE_QUAD_CORNER_XY: 544285.37900 4990047.28100
SE_QUAD_CORNERY_XY: 544333.60500 4983104.28400
SW_QUAD_CORNER_XY: 539407.64900 4983071.98700
SECONDARY_NW_QUAD_XY: 539365.94500 4989797.74100
SECONDARY_NE_QUAD_XY: 544286.68800 4989830.03900
SECONDARY_SE_QUAD_XY: 544334.91400 4982887.09800
SECONDARY_SW_QUAD_XY: 539408.81200 4982854.80000
RMSE_XY: 2.50000
IMAGE_SOURCE: BLACK AND WHITE FILM
SOURCE_IMAGE_ID: NAPP 7829 221
SOURCE_IMAGE_DATE: 1994 09 05
SOURCE_IMAGE_ID: NAPP 7829 222
SOURCE_IMAGE_DATE: 1994 09 05
SOURCE_IMAGE_ID: NAPP 7829 213
SOURCE_IMAGE_DATE: 1994 09 05
SOURCE_DEM_DATE: 1997 01 01
AGENCY: WESTERN MAPPING CENTER (WMC)
PRODUCER: UNDEFINED
PRODUCTION_SYSTEM: GIS/MAGIC
COMPRESSION: UNDEFINED
STANDARD_VERSION: 1996 12
METADATA_DATE: 1998 01 21
DATA_FILE_SIZE: 42722397
BYTE_COUNT: 5631
