FILENAME: O4511060.SES.829999.tif
QUADRANGLE_NAME: ASH MOUNTAIN
QUADRANT: SE
WEST_LONGITUDE: -110 33 45.00000
EAST_LONGITUDE: -110 30 0.00000
NORTH_LATITUDE: 45 3 45.00000
SOUTH_LATITUDE: 45 0 0.00000
PRODUCTION_DATE: 1997 12 4
RASTER_ORDER: LEFT_RIGHT/TOP_BOTTOM
BAND_ORGANIZATION: SINGLE FILE
BAND_CONTENT: BLACK&WHITE
BAND_CONTENT: UNDEFINED
BAND_CONTENT: UNDEFINED
BITS_PER_PIXEL: 8
SAMPLES_AND_LINES: 5626 7581
HORIZONTAL_DATUM: NAD83
HORIZONTAL_COORDINATE_SYSTEM: UTM
COORDINATE_ZONE: 12
HORIZONTAL_UNITS: METERS
HORIZONTAL_RESOLUTION: 1.00000
SECONDARY_HORIZONTAL_DATUM: NAD27
XY_ORIGIN: 534083.00000 4990315.00000
SECONDARY_XY_ORIGIN: 534143.86400 4990105.09500
NATION: US
NATION: "SCIENCE
STATE: MT
NW_QUAD_CORNER_XY: 534444.18400 4989986.48600
NE_QUAD_CORNER_XY: 539364.78200 4990014.98300
SE_QUAD_CORNERY_XY: 539407.64900 4983071.98700
SW_QUAD_CORNER_XY: 534481.69300 4983043.49000
SECONDARY_NW_QUAD_XY: 534445.20200 4989769.24300
SECONDARY_NE_QUAD_XY: 539365.94500 4989797.74100
SECONDARY_SE_QUAD_XY: 539408.81200 4982854.80000
SECONDARY_SW_QUAD_XY: 534482.71000 4982826.30200
RMSE_XY: 2.40000
IMAGE_SOURCE: BLACK AND WHITE FILM
SOURCE_IMAGE_ID: NAPP 7830 051
SOURCE_IMAGE_DATE: 1994 09 05
SOURCE_IMAGE_ID: NAPP 7830 050
SOURCE_IMAGE_DATE: 1994 09 05
SOURCE_IMAGE_ID: NAPP 7830 052
SOURCE_IMAGE_DATE: 1994 09 05
SOURCE_IMAGE_ID: NAPP 7829 221
SOURCE_IMAGE_DATE: 1994 09 05
SOURCE_DEM_DATE: 1997 01 01
AGENCY: WESTERN MAPPING CENTER (WMC)
PRODUCER: UNDEFINED
PRODUCTION_SYSTEM: GIS/MAGIC
COMPRESSION: UNDEFINED
STANDARD_VERSION: 1996 12
METADATA_DATE: 1998 01 21
DATA_FILE_SIZE: 42656332
BYTE_COUNT: 5626
