FILENAME: O4511060.SWS.830002.tif
QUADRANGLE_NAME: ASH MOUNTAIN
QUADRANT: SW
WEST_LONGITUDE: -110 37 30.00000
EAST_LONGITUDE: -110 33 45.00000
NORTH_LATITUDE: 45 3 45.00000
SOUTH_LATITUDE: 45 0 0.00000
PRODUCTION_DATE: 1997 12 4
RASTER_ORDER: LEFT_RIGHT/TOP_BOTTOM
BAND_ORGANIZATION: SINGLE FILE
BAND_CONTENT: BLACK&WHITE
BAND_CONTENT: UNDEFINED
BAND_CONTENT: UNDEFINED
BITS_PER_PIXEL: 8
SAMPLES_AND_LINES: 5621 7578
HORIZONTAL_DATUM: NAD83
HORIZONTAL_COORDINATE_SYSTEM: UTM
COORDINATE_ZONE: 12
HORIZONTAL_UNITS: METERS
HORIZONTAL_RESOLUTION: 1.00000
SECONDARY_HORIZONTAL_DATUM: NAD27
XY_ORIGIN: 529162.00000 4990287.00000
SECONDARY_XY_ORIGIN: 529222.92500 4990077.09000
NATION: US
NATION: "SCIENCE
STATE: MT
NW_QUAD_CORNER_XY: 529523.58600 4989961.78800
NE_QUAD_CORNER_XY: 534444.18400 4989986.48600
SE_QUAD_CORNERY_XY: 534481.69300 4983043.49000
SW_QUAD_CORNER_XY: 529555.73600 4983018.79200
SECONDARY_NW_QUAD_XY: 529524.45900 4989744.54400
SECONDARY_NE_QUAD_XY: 534445.20200 4989769.24300
SECONDARY_SE_QUAD_XY: 534482.71000 4982826.30200
SECONDARY_SW_QUAD_XY: 529556.60900 4982801.60400
RMSE_XY: 2.50000
IMAGE_SOURCE: BLACK AND WHITE FILM
SOURCE_IMAGE_ID: NAPP 7830 058
SOURCE_IMAGE_DATE: 1994 09 05
SOURCE_IMAGE_ID: NAPP 7826 152
SOURCE_IMAGE_DATE: 1994 08 25
SOURCE_IMAGE_ID: NAPP 7826 156
SOURCE_IMAGE_DATE: 1994 08 25
SOURCE_DEM_DATE: 1997 01 01
AGENCY: WESTERN MAPPING CENTER (WMC)
PRODUCER: UNDEFINED
PRODUCTION_SYSTEM: GIS/MAGIC
COMPRESSION: UNDEFINED
STANDARD_VERSION: 1996 12
METADATA_DATE: 1998 01 21
DATA_FILE_SIZE: 42601559
BYTE_COUNT: 5621
